flowUtils 1.13.0 Nishant Gopalakrishnan
 | Snapshot Date: 2011-06-21 19:21:48 -0700 (Tue, 21 Jun 2011) |  | URL: https://hedgehog.fhcrc.org/bioconductor/trunk/madman/Rpacks/flowUtils |  | Last Changed Rev: 54802 / Revision: 56351 |  | Last Changed Date: 2011-04-13 15:36:43 -0700 (Wed, 13 Apr 2011) |  
  | wilson2  | Linux (openSUSE 11.4) / x86_64  |  OK  |  OK  |  | 
| liverpool  | Windows Server 2003 R2 (32-bit) / x64  |  OK  |  OK  |  OK  | 
| gewurz  | Windows Server 2008 R2 Enterprise (64-bit) / x64  |  OK  |  OK  |  OK  | 
| moscato1  | Windows Server 2008 R2 Enterprise (64-bit) / x64  |  OK  |  OK  |  OK  | 
| pelham  | Mac OS X Leopard (10.5.8) / i386  |  OK  |  OK  | [ OK ] | 
>>>>>>> 
>>>>>>> INSTALLATION WITH 'R CMD INSTALL --preclean --library=flowUtils.buildbin-libdir flowUtils_1.13.0.tar.gz'
>>>>>>> 
* installing *source* package ‘flowUtils’ ...
** R
** inst
** preparing package for lazy loading
Loading required package: Biobase
Welcome to Bioconductor
  Vignettes contain introductory material. To view, type
  'browseVignettes()'. To cite Bioconductor, see
  'citation("Biobase")' and for packages 'citation("pkgname")'.
Loading required package: rrcov
Loading required package: robustbase
Loading required package: pcaPP
Loading required package: mvtnorm
Scalable Robust Estimators with High Breakdown Point (version 1.3-00)
Attaching package: ‘flowCore’
The following object(s) are masked from ‘package:stats’:
    alias, filter
** help
*** installing help indices
** building package indices ...
** testing if installed package can be loaded
Scalable Robust Estimators with High Breakdown Point (version 1.3-00)
* DONE (flowUtils)