flowPlots 1.1.0 N. Hawkins
 | Snapshot Date: 2011-07-06 19:21:50 -0700 (Wed, 06 Jul 2011) |  | URL: https://hedgehog.fhcrc.org/bioconductor/trunk/madman/Rpacks/flowPlots |  | Last Changed Rev: 54802 / Revision: 56603 |  | Last Changed Date: 2011-04-13 15:36:43 -0700 (Wed, 13 Apr 2011) |  
  | wilson2  | Linux (openSUSE 11.4) / x86_64  | [ OK ] |  OK  |  | 
| liverpool  | Windows Server 2003 R2 (32-bit) / x64  |  OK  |  OK  |  OK  | 
| gewurz  | Windows Server 2008 R2 Enterprise (64-bit) / x64  |  OK  |  OK  |  OK  | 
| moscato1  | Windows Server 2008 R2 Enterprise (64-bit) / x64  |  OK  |  OK  |  OK  | 
| pitt  | Mac OS X Leopard (10.5.8) / i386  |  OK  |  OK  |  OK  | 
* checking for file ‘flowPlots/DESCRIPTION’ ... OK
* preparing ‘flowPlots’:
* checking DESCRIPTION meta-information ... OK
* checking whether ‘INDEX’ is up-to-date ... NO
* use ‘--force’ to remove the existing ‘INDEX’
* installing the package to re-build vignettes
* creating vignettes ... OK
* checking for LF line-endings in source and make files
* checking for empty or unneeded directories
* looking to see if a ‘data/datalist’ file should be added
* building ‘flowPlots_1.1.0.tar.gz’