crlmm 1.11.2 Benilton S Carvalho , Robert Scharpf , Matt Ritchie
 | Snapshot Date: 2011-07-06 19:21:50 -0700 (Wed, 06 Jul 2011) |  | URL: https://hedgehog.fhcrc.org/bioconductor/trunk/madman/Rpacks/crlmm |  | Last Changed Rev: 55182 / Revision: 56603 |  | Last Changed Date: 2011-04-30 04:38:33 -0700 (Sat, 30 Apr 2011) |  
  | wilson2  | Linux (openSUSE 11.4) / x86_64  |  OK  |  WARNINGS  |  | 
| liverpool  | Windows Server 2003 R2 (32-bit) / x64  |  OK  |  WARNINGS  |  OK  | 
| gewurz  | Windows Server 2008 R2 Enterprise (64-bit) / x64  |  OK  |  WARNINGS  |  OK  | 
| moscato1  | Windows Server 2008 R2 Enterprise (64-bit) / x64  |  OK  |  WARNINGS  | [ OK ] | 
| pitt  | Mac OS X Leopard (10.5.8) / i386  |  OK  |  WARNINGS  |  OK  | 
install for i386
* installing *source* package 'crlmm' ...
** libs
gcc  -I"D:/biocbld/BBS-2˜1.9-B/R/include"          -O3 -Wall  -std=gnu99 -mtune=core2 -c gtypeCaller.c -o gtypeCaller.o
gcc  -I"D:/biocbld/BBS-2˜1.9-B/R/include"          -O3 -Wall  -std=gnu99 -mtune=core2 -c init.c -o init.o
gcc  -I"D:/biocbld/BBS-2˜1.9-B/R/include"          -O3 -Wall  -std=gnu99 -mtune=core2 -c trimmed.c -o trimmed.o
gcc  -I"D:/biocbld/BBS-2˜1.9-B/R/include"          -O3 -Wall  -std=gnu99 -mtune=core2 -c utils.c -o utils.o
utils.c: In function 'mad_median':
utils.c:124:15: warning: unused variable 'n_ignore'
gcc -shared -s -static-libgcc -o crlmm.dll tmp.def gtypeCaller.o init.o trimmed.o utils.o -LD:/biocbld/BBS-2˜1.9-B/R/bin/i386 -lR
installing to D:/biocbld/bbs-2.9-bioc/meat/crlmm.buildbin-libdir/crlmm/libs/i386
** R
** data
** inst
** preparing package for lazy loading
Welcome to Bioconductor
  Vignettes contain introductory material. To view, type
  'browseVignettes()'. To cite Bioconductor, see
  'citation("Biobase")' and for packages 'citation("pkgname")'.
================================================================================
Welcome to oligoClasses version 1.15.9
================================================================================
Large dataset support for 'oligo/crlmm': Disabled
     - Load 'ff'
================================================================================
Parallel computing support for 'oligo/crlmm': Disabled
     - Load 'ff'
     - Load 'snow'
     - Use options(cluster=makeCluster(...))
================================================================================
Loading package bit1.1-7
package:bit (c) 2008/2009 Jens Oehlschlaegel (GPL-2)
creators: bit bitwhich
coercion: as.logical as.integer as.bit as.bitwhich which
operator: ! & | xor != == 
querying: print length any all min max range sum summary
bit access: length<- [ [<- [[ [[<-
for more help type ?bit
Loading package ff2.2-2
- getOption("fftempdir")=="D:/biocbld/bbs-2.9-bioc/tmpdir/RtmpcJkLqr"
- getOption("ffextension")=="ff"
- getOption("ffdrop")==TRUE
- getOption("fffinonexit")==TRUE
- getOption("ffpagesize")==65536
- getOption("ffcaching")=="mmnoflush"  -- consider "ffeachflush" if your system stalls on large writes
- getOption("ffbatchbytes")==37570478.08 -- consider a different value for tuning your system
- getOption("ffmaxbytes")==1878523904 -- consider a different value for tuning your system
Creating a generic function for "lines" from package "graphics" in package "crlmm"
** help
*** installing help indices
** building package indices ...
*** tangling vignette sources ...
   'AffymetrixPreprocessCN.Rnw' 
   'CopyNumberOverview.Rnw' 
   'IlluminaPreprocessCN.Rnw' 
   'Infrastructure.Rnw' 
   'copynumber.Rnw' 
   'crlmmDownstream.Rnw' 
   'genotyping.Rnw' 
** testing if installed package can be loaded
================================================================================
Welcome to oligoClasses version 1.15.9
================================================================================
Large dataset support for 'oligo/crlmm': Disabled
     - Load 'ff'
================================================================================
Parallel computing support for 'oligo/crlmm': Disabled
     - Load 'ff'
     - Load 'snow'
     - Use options(cluster=makeCluster(...))
================================================================================
Welcome to crlmm version 1.11.2
add DLL for x64
* installing *source* package 'crlmm' ...
** libs
x86_64-w64-mingw32-gcc  -I"D:/biocbld/BBS-2˜1.9-B/R/include"          -O2 -Wall  -std=gnu99 -mtune=core2 -c gtypeCaller.c -o gtypeCaller.o
x86_64-w64-mingw32-gcc  -I"D:/biocbld/BBS-2˜1.9-B/R/include"          -O2 -Wall  -std=gnu99 -mtune=core2 -c init.c -o init.o
x86_64-w64-mingw32-gcc  -I"D:/biocbld/BBS-2˜1.9-B/R/include"          -O2 -Wall  -std=gnu99 -mtune=core2 -c trimmed.c -o trimmed.o
x86_64-w64-mingw32-gcc  -I"D:/biocbld/BBS-2˜1.9-B/R/include"          -O2 -Wall  -std=gnu99 -mtune=core2 -c utils.c -o utils.o
utils.c: In function 'mad_median':
utils.c:124:15: warning: unused variable 'n_ignore'
x86_64-w64-mingw32-gcc -shared -s -static-libgcc -o crlmm.dll tmp.def gtypeCaller.o init.o trimmed.o utils.o -LD:/biocbld/BBS-2˜1.9-B/R/bin/x64 -lR
installing to D:/biocbld/bbs-2.9-bioc/meat/crlmm.buildbin-libdir/crlmm/libs/x64
** testing if installed package can be loaded
================================================================================
Welcome to oligoClasses version 1.15.9
================================================================================
Large dataset support for 'oligo/crlmm': Disabled
     - Load 'ff'
================================================================================
Parallel computing support for 'oligo/crlmm': Disabled
     - Load 'ff'
     - Load 'snow'
     - Use options(cluster=makeCluster(...))
================================================================================
Welcome to crlmm version 1.11.2
* MD5 sums
packaged installation of 'crlmm' as crlmm_1.11.2.zip
* DONE (crlmm)