cghMCR 1.11.0 J. Zhang
 | Snapshot Date: 2011-07-06 19:21:50 -0700 (Wed, 06 Jul 2011) |  | URL: https://hedgehog.fhcrc.org/bioconductor/trunk/madman/Rpacks/cghMCR |  | Last Changed Rev: 54802 / Revision: 56603 |  | Last Changed Date: 2011-04-13 15:36:43 -0700 (Wed, 13 Apr 2011) |  
  | wilson2  | Linux (openSUSE 11.4) / x86_64  |  OK  |  OK  |  | 
| liverpool  | Windows Server 2003 R2 (32-bit) / x64  |  OK  |  OK  | [ OK ] | 
| gewurz  | Windows Server 2008 R2 Enterprise (64-bit) / x64  |  OK  |  OK  |  OK  | 
| moscato1  | Windows Server 2008 R2 Enterprise (64-bit) / x64  |  OK  |  OK  |  OK  | 
| pitt  | Mac OS X Leopard (10.5.8) / i386  |  OK  |  OK  |  OK  | 
* installing *source* package 'cghMCR' ...
** R
** data
** inst
** preparing package for lazy loading
**************************************************************************
   The plan to change the data format for CNA object has been postponed   
 in order to ensure backward compatibility with older versions of DNAcopy 
**************************************************************************
Loading required package: tools
Loading required package: genefilter
Loading required package: Biobase
Welcome to Bioconductor
  Vignettes contain introductory material. To view, type
  'browseVignettes()'. To cite Bioconductor, see
  'citation("Biobase")' and for packages 'citation("pkgname")'.
Creating a generic function for "genefilter" from package "genefilter" in package "CNTools"
Creating a generic function for "print" from package "base" in package "cghMCR"
Creating a generic function for "colnames" from package "base" in package "cghMCR"
Creating a generic function for "rownames" from package "base" in package "cghMCR"
** help
*** installing help indices
** building package indices ...
*** tangling vignette sources ...
   'findMCR.Rnw' 
** testing if installed package can be loaded
Creating a generic function for "genefilter" from package "genefilter" in package "CNTools"
* MD5 sums
packaged installation of 'cghMCR' as cghMCR_1.11.0.zip
* DONE (cghMCR)