biocViews 1.21.3 Biocore Team c/o BioC user list
 | Snapshot Date: 2011-06-21 19:21:48 -0700 (Tue, 21 Jun 2011) |  | URL: https://hedgehog.fhcrc.org/bioconductor/trunk/madman/Rpacks/biocViews |  | Last Changed Rev: 56085 / Revision: 56351 |  | Last Changed Date: 2011-06-09 13:45:09 -0700 (Thu, 09 Jun 2011) |  
  | wilson2  | Linux (openSUSE 11.4) / x86_64  |  OK  |  WARNINGS  |  | 
| liverpool  | Windows Server 2003 R2 (32-bit) / x64  |  OK  |  WARNINGS  |  OK  | 
| gewurz  | Windows Server 2008 R2 Enterprise (64-bit) / x64  |  OK  |  WARNINGS  |  OK  | 
| moscato1  | Windows Server 2008 R2 Enterprise (64-bit) / x64  |  OK  |  WARNINGS  |  OK  | 
| pelham  | Mac OS X Leopard (10.5.8) / i386  |  OK  |  WARNINGS  | [ OK ] | 
>>>>>>> 
>>>>>>> INSTALLATION WITH 'R CMD INSTALL --preclean --library=biocViews.buildbin-libdir biocViews_1.21.3.tar.gz'
>>>>>>> 
* installing *source* package ‘biocViews’ ...
** R
** data
** inst
** preparing package for lazy loading
** help
*** installing help indices
** building package indices ...
*** tangling vignette sources ...
   ‘HOWTO-BCV.Rnw’ 
   ‘createReposHtml.Rnw’ 
** testing if installed package can be loaded
* DONE (biocViews)