arrayMvout 1.11.0 V. Carey
 | Snapshot Date: 2011-07-06 19:21:50 -0700 (Wed, 06 Jul 2011) |  | URL: https://hedgehog.fhcrc.org/bioconductor/trunk/madman/Rpacks/arrayMvout |  | Last Changed Rev: 56090 / Revision: 56603 |  | Last Changed Date: 2011-06-09 17:02:42 -0700 (Thu, 09 Jun 2011) |  
  | wilson2  | Linux (openSUSE 11.4) / x86_64  |  OK  |  OK  |  | 
| liverpool  | Windows Server 2003 R2 (32-bit) / x64  |  OK  |  OK  |  OK  | 
| gewurz  | Windows Server 2008 R2 Enterprise (64-bit) / x64  |  OK  |  OK  | [ OK ] | 
| moscato1  | Windows Server 2008 R2 Enterprise (64-bit) / x64  |  OK  |  OK  |  OK  | 
| pitt  | Mac OS X Leopard (10.5.8) / i386  |  OK  |  OK  |  OK  | 
* installing *source* package 'arrayMvout' ...
** R
** data
** inst
** preparing package for lazy loading
Welcome to Bioconductor
  Vignettes contain introductory material. To view, type
  'browseVignettes()'. To cite Bioconductor, see
  'citation("Biobase")' and for packages 'citation("pkgname")'.
Loading required package: methylumi
Loading required package: nleqslv
KernSmooth 2.23 loaded
Copyright M. P. Wand 1997-2009
Attaching package: 'lumi'
The following object(s) are masked from 'package:methylumi':
    estimateM, getHistory
The following object(s) are masked from 'package:affy':
    MAplot, plotDensity
** help
*** installing help indices
** building package indices ...
*** tangling vignette sources ...
   'arrayMvout.Rnw' 
** testing if installed package can be loaded
* MD5 sums
packaged installation of 'arrayMvout' as arrayMvout_1.11.0.zip
* DONE (arrayMvout)