SRAdb 1.7.0 Jack Zhu
 | Snapshot Date: 2011-07-06 19:21:50 -0700 (Wed, 06 Jul 2011) |  | URL: https://hedgehog.fhcrc.org/bioconductor/trunk/madman/Rpacks/SRAdb |  | Last Changed Rev: 56359 / Revision: 56603 |  | Last Changed Date: 2011-06-22 10:47:29 -0700 (Wed, 22 Jun 2011) |  
  | wilson2  | Linux (openSUSE 11.4) / x86_64  |  OK  |  OK  |  | 
| liverpool  | Windows Server 2003 R2 (32-bit) / x64  |  OK  |  OK  |  OK  | 
| gewurz  | Windows Server 2008 R2 Enterprise (64-bit) / x64  |  OK  |  OK  |  OK  | 
| moscato1  | Windows Server 2008 R2 Enterprise (64-bit) / x64  |  OK  |  OK  | [ OK ] | 
| pitt  | Mac OS X Leopard (10.5.8) / i386  |  OK  |  OK  |  OK  | 
install for i386
* installing *source* package 'SRAdb' ...
** R
** inst
** preparing package for lazy loading
Loading required package: DBI
Loading required package: bitops
Setting options('download.file.method.GEOquery'='curl')
** help
*** installing help indices
** building package indices ...
*** tangling vignette sources ...
   'SRAdb.Rnw' 
** testing if installed package can be loaded
Setting options('download.file.method.GEOquery'='curl')
add DLL for x64
* installing *source* package 'SRAdb' ...
** testing if installed package can be loaded
Setting options('download.file.method.GEOquery'='curl')
* MD5 sums
packaged installation of 'SRAdb' as SRAdb_1.7.0.zip
* DONE (SRAdb)