SAGx 1.27.0 Per Broberg,
 | Snapshot Date: 2011-07-06 19:21:50 -0700 (Wed, 06 Jul 2011) |  | URL: https://hedgehog.fhcrc.org/bioconductor/trunk/madman/Rpacks/SAGx |  | Last Changed Rev: 54802 / Revision: 56603 |  | Last Changed Date: 2011-04-13 15:36:43 -0700 (Wed, 13 Apr 2011) |  
  | wilson2  | Linux (openSUSE 11.4) / x86_64  |  OK  |  OK  |  | 
| liverpool  | Windows Server 2003 R2 (32-bit) / x64  |  OK  |  OK  | [ OK ] | 
| gewurz  | Windows Server 2008 R2 Enterprise (64-bit) / x64  |  OK  |  OK  |  OK  | 
| moscato1  | Windows Server 2008 R2 Enterprise (64-bit) / x64  |  OK  |  OK  |  OK  | 
| pitt  | Mac OS X Leopard (10.5.8) / i386  |  OK  |  OK  |  OK  | 
* installing *source* package 'SAGx' ...
** libs
gcc  -I"E:/biocbld/bbs-2.9-bioc/R/include"          -O3 -Wall  -std=gnu99 -c minigsea.c -o minigsea.o
gcc  -I"E:/biocbld/bbs-2.9-bioc/R/include"          -O3 -Wall  -std=gnu99 -c newboot.c -o newboot.o
gcc  -I"E:/biocbld/bbs-2.9-bioc/R/include"          -O3 -Wall  -std=gnu99 -c samrocNboot.c -o samrocNboot.o
gcc -shared -s -static-libgcc -o SAGx.dll tmp.def minigsea.o newboot.o samrocNboot.o -LE:/biocbld/bbs-2.9-bioc/R/bin/i386 -lR
installing to E:/biocbld/bbs-2.9-bioc/meat/SAGx.buildbin-libdir/SAGx/libs/i386
** R
** inst
** preparing package for lazy loading
Loading required package: Biobase
Welcome to Bioconductor
  Vignettes contain introductory material. To view, type
  'browseVignettes()'. To cite Bioconductor, see
  'citation("Biobase")' and for packages 'citation("pkgname")'.
** help
*** installing help indices
** building package indices ...
*** tangling vignette sources ...
   'samroc-ex.Rnw' 
** testing if installed package can be loaded
* MD5 sums
packaged installation of 'SAGx' as SAGx_1.27.0.zip
* DONE (SAGx)