MeasurementError.cor 1.25.0 Beiying Ding
 | Snapshot Date: 2011-07-06 19:21:50 -0700 (Wed, 06 Jul 2011) |  | URL: https://hedgehog.fhcrc.org/bioconductor/trunk/madman/Rpacks/MeasurementError.cor |  | Last Changed Rev: 54802 / Revision: 56603 |  | Last Changed Date: 2011-04-13 15:36:43 -0700 (Wed, 13 Apr 2011) |  
  | wilson2  | Linux (openSUSE 11.4) / x86_64  | [ OK ] |  OK  |  | 
| liverpool  | Windows Server 2003 R2 (32-bit) / x64  |  OK  |  OK  |  OK  | 
| gewurz  | Windows Server 2008 R2 Enterprise (64-bit) / x64  |  OK  |  OK  |  OK  | 
| moscato1  | Windows Server 2008 R2 Enterprise (64-bit) / x64  |  OK  |  OK  |  OK  | 
| pitt  | Mac OS X Leopard (10.5.8) / i386  |  OK  |  OK  |  OK  | 
* checking for file ‘MeasurementError.cor/DESCRIPTION’ ... OK
* preparing ‘MeasurementError.cor’:
* checking DESCRIPTION meta-information ... OK
* installing the package to re-build vignettes
* creating vignettes ... OK
* excluding invalid files
Subdirectory 'R' contains invalid file names:
  ‘zzz’
Subdirectory 'man' contains invalid file names:
  ‘CalcInitials’ ‘TransformCon2Uncon’ ‘TransformUncon2Con’ ‘cor.me’
  ‘fcn’ ‘fcn.uncons’ ‘gradient’ ‘gradient.uncons’
* checking for LF line-endings in source and make files
* checking for empty or unneeded directories
* building ‘MeasurementError.cor_1.25.0.tar.gz’