MLInterfaces 1.33.4 V. Carey
 | Snapshot Date: 2011-07-06 19:21:50 -0700 (Wed, 06 Jul 2011) |  | URL: https://hedgehog.fhcrc.org/bioconductor/trunk/madman/Rpacks/MLInterfaces |  | Last Changed Rev: 56488 / Revision: 56603 |  | Last Changed Date: 2011-07-01 02:27:31 -0700 (Fri, 01 Jul 2011) |  
  | wilson2  | Linux (openSUSE 11.4) / x86_64  |  OK  |  OK  |  | 
| liverpool  | Windows Server 2003 R2 (32-bit) / x64  |  OK  |  OK  |  OK  | 
| gewurz  | Windows Server 2008 R2 Enterprise (64-bit) / x64  |  OK  |  OK  |  OK  | 
| moscato1  | Windows Server 2008 R2 Enterprise (64-bit) / x64  |  OK  |  OK  | [ OK ] | 
| pitt  | Mac OS X Leopard (10.5.8) / i386  |  OK  |  OK  |  OK  | 
install for i386
* installing *source* package 'MLInterfaces' ...
** R
** inst
** preparing package for lazy loading
Welcome to Bioconductor
  Vignettes contain introductory material. To view, type
  'browseVignettes()'. To cite Bioconductor, see
  'citation("Biobase")' and for packages 'citation("pkgname")'.
Attaching package: 'genefilter'
The following object(s) are masked from 'package:MASS':
    area
Loading required package: AnnotationDbi
** help
*** installing help indices
** building package indices ...
*** tangling vignette sources ...
   'MLInterfaces.Rnw' 
   'MLint_devel.Rnw' 
   'MLprac2_2.Rnw' 
   'xvalComputerClusters.Rnw' 
** testing if installed package can be loaded
add DLL for x64
* installing *source* package 'MLInterfaces' ...
** testing if installed package can be loaded
* MD5 sums
packaged installation of 'MLInterfaces' as MLInterfaces_1.33.4.zip
* DONE (MLInterfaces)