MEDME 1.13.0 Mattia Pelizzola
 | Snapshot Date: 2011-07-06 19:21:50 -0700 (Wed, 06 Jul 2011) |  | URL: https://hedgehog.fhcrc.org/bioconductor/trunk/madman/Rpacks/MEDME |  | Last Changed Rev: 54802 / Revision: 56603 |  | Last Changed Date: 2011-04-13 15:36:43 -0700 (Wed, 13 Apr 2011) |  
  | wilson2  | Linux (openSUSE 11.4) / x86_64  |  OK  |  OK  |  | 
| liverpool  | Windows Server 2003 R2 (32-bit) / x64  |  OK  |  OK  |  OK  | 
| gewurz  | Windows Server 2008 R2 Enterprise (64-bit) / x64  |  OK  |  OK  | [ OK ] | 
| moscato1  | Windows Server 2008 R2 Enterprise (64-bit) / x64  |  OK  |  OK  |  OK  | 
| pitt  | Mac OS X Leopard (10.5.8) / i386  |  OK  |  OK  |  OK  | 
* installing *source* package 'MEDME' ...
** libs
x86_64-w64-mingw32-gcc  -I"D:/biocbld/bbs-2.9-bioc/R/include"          -O2 -Wall  -std=gnu99 -c MEDMEweight.c -o MEDMEweight.o
MEDMEweight.c: In function 'MEDMEweight':
MEDMEweight.c:36:10: warning: 'B' may be used uninitialized in this function
MEDMEweight.c:36:12: warning: 'C' may be used uninitialized in this function
MEDMEweight.c:36:14: warning: 'D' may be used uninitialized in this function
MEDMEweight.c:36:16: warning: 'E' may be used uninitialized in this function
MEDMEweight.c:36:19: warning: 'Min' may be used uninitialized in this function
MEDMEweight.c:36:24: warning: 'Max' may be used uninitialized in this function
MEDMEweight.c:30:10: warning: 'weight' may be used uninitialized in this function
x86_64-w64-mingw32-gcc -shared -s -static-libgcc -o MEDME.dll tmp.def MEDMEweight.o -LD:/biocbld/bbs-2.9-bioc/R/bin/x64 -lR
installing to D:/biocbld/bbs-2.9-bioc/meat/MEDME.buildbin-libdir/MEDME/libs/x64
** R
** data
** inst
** preparing package for lazy loading
** help
*** installing help indices
** building package indices ...
*** tangling vignette sources ...
   'MEDME.rnw' 
** testing if installed package can be loaded
* MD5 sums
packaged installation of 'MEDME' as MEDME_1.13.0.zip
* DONE (MEDME)