IdMappingRetrieval 0.99.1 Alex Lisovich , Roger Day
 | Snapshot Date: 2011-07-06 19:21:50 -0700 (Wed, 06 Jul 2011) |  | URL: https://hedgehog.fhcrc.org/bioconductor/trunk/madman/Rpacks/IdMappingRetrieval |  | Last Changed Rev: 56498 / Revision: 56603 |  | Last Changed Date: 2011-07-01 11:30:04 -0700 (Fri, 01 Jul 2011) |  
  | wilson2  | Linux (openSUSE 11.4) / x86_64  |  OK  |  OK  |  | 
| liverpool  | Windows Server 2003 R2 (32-bit) / x64  |  OK  |  OK  |  OK  | 
| gewurz  | Windows Server 2008 R2 Enterprise (64-bit) / x64  |  OK  |  OK  |  OK  | 
| moscato1  | Windows Server 2008 R2 Enterprise (64-bit) / x64  |  OK  |  ERROR  | [ ERROR ] | 
| pitt  | Mac OS X Leopard (10.5.8) / i386  |  ERROR  |  skipped  |  skipped  |