HilbertVisGUI 1.11.0 Simon Anders
 | Snapshot Date: 2011-07-06 19:21:50 -0700 (Wed, 06 Jul 2011) |  | URL: https://hedgehog.fhcrc.org/bioconductor/trunk/madman/Rpacks/HilbertVisGUI |  | Last Changed Rev: 55180 / Revision: 56603 |  | Last Changed Date: 2011-04-30 02:24:17 -0700 (Sat, 30 Apr 2011) |  
  | wilson2  | Linux (openSUSE 11.4) / x86_64  |  OK  |  OK  |  | 
| liverpool  | Windows Server 2003 R2 (32-bit) / x64  | [ ERROR ] |  skipped  |  skipped  | 
| gewurz  | Windows Server 2008 R2 Enterprise (64-bit) / x64  | N O T   S U P P O R T E D | 
| moscato1  | Windows Server 2008 R2 Enterprise (64-bit) / x64  |  ERROR  |  skipped  |  skipped  | 
| pitt  | Mac OS X Leopard (10.5.8) / i386  |  OK  |  OK  |  OK  | 
* checking for file 'HilbertVisGUI/DESCRIPTION' ... OK
* preparing 'HilbertVisGUI':
* checking DESCRIPTION meta-information ... OK
* cleaning src
* installing the package to re-build vignettes
      -----------------------------------
* installing *source* package 'HilbertVisGUI' ...
   **********************************************
   WARNING: this package has a configure script
         It probably needs manual configuration
   **********************************************
** libs
gcc  -I"E:/biocbld/BBS-2˜1.9-B/R/include" `pkg-config gtkmm-2.4 --cflags` -DSO_NAME=HilbertVisGUI -DMSWINDOWS      `pkg-config gtkmm-2.4 --cflags` -DSO_NAME=HilbertVisGUI -DMSWINDOWS   -O3 -Wall  -std=gnu99 -c R_env_prot.c -o R_env_prot.o
Package gtkmm-2.4 was not found in the pkg-config search path.
Perhaps you should add the directory containing `gtkmm-2.4.pc'
to the PKG_CONFIG_PATH environment variable
No package 'gtkmm-2.4' found
Package gtkmm-2.4 was not found in the pkg-config search path.
Perhaps you should add the directory containing `gtkmm-2.4.pc'
to the PKG_CONFIG_PATH environment variable
No package 'gtkmm-2.4' found
g++  -I"E:/biocbld/BBS-2˜1.9-B/R/include" `pkg-config gtkmm-2.4 --cflags` -DSO_NAME=HilbertVisGUI -DMSWINDOWS         -O2 -Wall  -c R_interface.cc -o R_interface.o
Package gtkmm-2.4 was not found in the pkg-config search path.
Perhaps you should add the directory containing `gtkmm-2.4.pc'
to the PKG_CONFIG_PATH environment variable
No package 'gtkmm-2.4' found
In file included from R_interface.cc:8:0:
display.h:7:19: fatal error: gtkmm.h: No such file or directory
compilation terminated.
make: *** [R_interface.o] Error 1
ERROR: compilation failed for package 'HilbertVisGUI'
* removing 'E:/biocbld/bbs-2.9-bioc/tmpdir/RtmpGwY4tW/Rinst5b8f22c8/HilbertVisGUI'
      -----------------------------------
ERROR: package installation failed