HilbertVis 1.11.1 Simon Anders
 | Snapshot Date: 2011-07-06 19:21:50 -0700 (Wed, 06 Jul 2011) |  | URL: https://hedgehog.fhcrc.org/bioconductor/trunk/madman/Rpacks/HilbertVis |  | Last Changed Rev: 55297 / Revision: 56603 |  | Last Changed Date: 2011-05-06 01:24:29 -0700 (Fri, 06 May 2011) |  
  | wilson2  | Linux (openSUSE 11.4) / x86_64  |  OK  |  WARNINGS  |  | 
| liverpool  | Windows Server 2003 R2 (32-bit) / x64  |  OK  |  WARNINGS  | [ OK ] | 
| gewurz  | Windows Server 2008 R2 Enterprise (64-bit) / x64  | N O T   S U P P O R T E D | 
| moscato1  | Windows Server 2008 R2 Enterprise (64-bit) / x64  |  OK  |  WARNINGS  |  OK  | 
| pitt  | Mac OS X Leopard (10.5.8) / i386  | N O T   S U P P O R T E D | 
* installing *source* package 'HilbertVis' ...
** libs
gcc  -I"E:/biocbld/bbs-2.9-bioc/R/include"          -O3 -Wall  -std=gnu99 -c hilbert.c -o hilbert.o
gcc  -I"E:/biocbld/bbs-2.9-bioc/R/include"          -O3 -Wall  -std=gnu99 -c make_wiggle_vector.c -o make_wiggle_vector.o
gcc  -I"E:/biocbld/bbs-2.9-bioc/R/include"          -O3 -Wall  -std=gnu99 -c shrink_vector.c -o shrink_vector.o
gcc -shared -s -static-libgcc -o HilbertVis.dll tmp.def hilbert.o make_wiggle_vector.o shrink_vector.o -LE:/biocbld/bbs-2.9-bioc/R/bin/i386 -lR
installing to E:/biocbld/bbs-2.9-bioc/meat/HilbertVis.buildbin-libdir/HilbertVis/libs/i386
** R
** inst
** preparing package for lazy loading
** help
*** installing help indices
** building package indices ...
*** tangling vignette sources ...
   'HilbertVis.Rnw' 
** testing if installed package can be loaded
* MD5 sums
packaged installation of 'HilbertVis' as HilbertVis_1.11.1.zip
* DONE (HilbertVis)