GOSemSim 1.11.4 Guangchuang Yu
 | Snapshot Date: 2011-07-06 19:21:50 -0700 (Wed, 06 Jul 2011) |  | URL: https://hedgehog.fhcrc.org/bioconductor/trunk/madman/Rpacks/GOSemSim |  | Last Changed Rev: 56374 / Revision: 56603 |  | Last Changed Date: 2011-06-23 04:45:22 -0700 (Thu, 23 Jun 2011) |  
  | wilson2  | Linux (openSUSE 11.4) / x86_64  |  OK  |  OK  |  | 
| liverpool  | Windows Server 2003 R2 (32-bit) / x64  |  OK  |  OK  |  OK  | 
| gewurz  | Windows Server 2008 R2 Enterprise (64-bit) / x64  |  OK  |  OK  |  OK  | 
| moscato1  | Windows Server 2008 R2 Enterprise (64-bit) / x64  |  OK  |  OK  | [ OK ] | 
| pitt  | Mac OS X Leopard (10.5.8) / i386  |  OK  |  OK  |  OK  | 
install for i386
* installing *source* package 'GOSemSim' ...
** R
** data
** inst
** preparing package for lazy loading
Loading Tcl/Tk interface ... done
Loading required package: DBI
** help
*** installing help indices
** building package indices ...
*** tangling vignette sources ...
   'GOSemSim.Rnw' 
** testing if installed package can be loaded
add DLL for x64
* installing *source* package 'GOSemSim' ...
** testing if installed package can be loaded
* MD5 sums
packaged installation of 'GOSemSim' as GOSemSim_1.11.4.zip
* DONE (GOSemSim)