Clonality 1.1.0 Irina Ostrovnaya
 | Snapshot Date: 2011-07-06 19:21:50 -0700 (Wed, 06 Jul 2011) |  | URL: https://hedgehog.fhcrc.org/bioconductor/trunk/madman/Rpacks/Clonality |  | Last Changed Rev: 56066 / Revision: 56603 |  | Last Changed Date: 2011-06-08 15:07:12 -0700 (Wed, 08 Jun 2011) |  
  | wilson2  | Linux (openSUSE 11.4) / x86_64  |  OK  |  OK  |  | 
| liverpool  | Windows Server 2003 R2 (32-bit) / x64  |  OK  |  OK  |  OK  | 
| gewurz  | Windows Server 2008 R2 Enterprise (64-bit) / x64  |  OK  |  OK  |  OK  | 
| moscato1  | Windows Server 2008 R2 Enterprise (64-bit) / x64  |  OK  | [ OK ] |  OK  | 
| pitt  | Mac OS X Leopard (10.5.8) / i386  |  OK  |  OK  |  OK  | 
* using log directory 'D:/biocbld/bbs-2.9-bioc/meat/Clonality.Rcheck'
* using R version 2.14.0 Under development (unstable) (2011-06-20 r56188)
* using platform: i386-pc-mingw32 (32-bit)
* using session charset: ISO8859-1
* using option '--no-vignettes'
* checking for file 'Clonality/DESCRIPTION' ... OK
* checking extension type ... Package
* this is package 'Clonality' version '1.1.0'
* checking package name space information ... OK
* checking package dependencies ... OK
* checking if this is a source package ... OK
* checking whether package 'Clonality' can be installed ... OK
* checking installed package size ... OK
* checking package directory ... OK
* checking for portable file names ... OK
* checking DESCRIPTION meta-information ... OK
* checking top-level files ... OK
* checking index information ... OK
* checking package subdirectories ... OK
* checking R files for non-ASCII characters ... OK
* checking R files for syntax errors ... OK
* loading checks for arch 'i386'
** checking whether the package can be loaded ... OK
** checking whether the package can be loaded with stated dependencies ... OK
** checking whether the package can be unloaded cleanly ... OK
** checking whether the name space can be loaded with stated dependencies ... OK
** checking whether the name space can be unloaded cleanly ... OK
* loading checks for arch 'x64'
** checking whether the package can be loaded ... OK
** checking whether the package can be loaded with stated dependencies ... OK
** checking whether the package can be unloaded cleanly ... OK
** checking whether the name space can be loaded with stated dependencies ... OK
** checking whether the name space can be unloaded cleanly ... OK
* checking for unstated dependencies in R code ... OK
* checking S3 generic/method consistency ... OK
* checking replacement functions ... OK
* checking foreign function calls ... OK
* checking R code for possible problems ... OK
* checking Rd files ... OK
* checking Rd metadata ... OK
* checking Rd cross-references ... OK
* checking for missing documentation entries ... OK
* checking for code/documentation mismatches ... OK
* checking Rd \usage sections ... OK
* checking Rd contents ... OK
* checking for unstated dependencies in examples ... OK
* checking examples ...
** running examples for arch 'i386' ... OK
** running examples for arch 'x64' ... OK
* checking for unstated dependencies in vignettes ... OK
* checking package vignettes in 'inst/doc' ... OK
* checking running R code from vignettes ... SKIPPED
* checking re-building of vignettes ... SKIPPED
* checking PDF version of manual ... OK
 
install for i386
* installing *source* package 'Clonality' ...
** R
** inst
** preparing package for lazy loading
**************************************************************************
   The plan to change the data format for CNA object has been postponed   
 in order to ensure backward compatibility with older versions of DNAcopy 
**************************************************************************
** help
*** installing help indices
** building package indices ...
*** tangling vignette sources ...
   'Clonality.Rnw' 
** testing if installed package can be loaded
add DLL for x64
* installing *source* package 'Clonality' ...
** testing if installed package can be loaded
* MD5 sums
packaged installation of 'Clonality' as Clonality_1.1.0.zip
* DONE (Clonality)