ChIPseqR 1.7.0 Peter Humburg
 | Snapshot Date: 2011-07-06 19:21:50 -0700 (Wed, 06 Jul 2011) |  | URL: https://hedgehog.fhcrc.org/bioconductor/trunk/madman/Rpacks/ChIPseqR |  | Last Changed Rev: 55011 / Revision: 56603 |  | Last Changed Date: 2011-04-21 01:15:39 -0700 (Thu, 21 Apr 2011) |  
  | wilson2  | Linux (openSUSE 11.4) / x86_64  |  OK  |  OK  |  | 
| liverpool  | Windows Server 2003 R2 (32-bit) / x64  |  OK  |  OK  |  OK  | 
| gewurz  | Windows Server 2008 R2 Enterprise (64-bit) / x64  |  OK  |  OK  | [ OK ] | 
| moscato1  | Windows Server 2008 R2 Enterprise (64-bit) / x64  |  OK  |  OK  |  OK  | 
| pitt  | Mac OS X Leopard (10.5.8) / i386  |  OK  |  OK  |  OK  | 
* installing *source* package 'ChIPseqR' ...
** libs
x86_64-w64-mingw32-gcc  -I"D:/biocbld/bbs-2.9-bioc/R/include"          -O2 -Wall  -std=gnu99 -c startScore.c -o startScore.o
startScore.c: In function '_ratioStat_pois':
startScore.c:66:15: warning: unused variable 'tmp_stat'
x86_64-w64-mingw32-gcc -shared -s -static-libgcc -o ChIPseqR.dll tmp.def startScore.o -LD:/biocbld/bbs-2.9-bioc/R/bin/x64 -lR
installing to D:/biocbld/bbs-2.9-bioc/meat/ChIPseqR.buildbin-libdir/ChIPseqR/libs/x64
** R
** inst
** preparing package for lazy loading
Loading required package: IRanges
Attaching package: 'IRanges'
The following object(s) are masked from 'package:base':
    Map, cbind, eval, intersect, mapply, order, paste, pmax, pmax.int,
    pmin, pmin.int, rbind, rep.int, setdiff, table, union
Loading required package: GenomicRanges
Loading required package: Biostrings
Loading required package: lattice
Loading required package: Rsamtools
Loading required package: latticeExtra
Loading required package: RColorBrewer
** help
*** installing help indices
** building package indices ...
*** tangling vignette sources ...
   'Introduction.Rnw' 
** testing if installed package can be loaded
* MD5 sums
packaged installation of 'ChIPseqR' as ChIPseqR_1.7.0.zip
* DONE (ChIPseqR)