CGHnormaliter 1.7.0 Bart P.P. van Houte
 | Snapshot Date: 2011-07-06 19:21:50 -0700 (Wed, 06 Jul 2011) |  | URL: https://hedgehog.fhcrc.org/bioconductor/trunk/madman/Rpacks/CGHnormaliter |  | Last Changed Rev: 54802 / Revision: 56603 |  | Last Changed Date: 2011-04-13 15:36:43 -0700 (Wed, 13 Apr 2011) |  
  | wilson2  | Linux (openSUSE 11.4) / x86_64  |  OK  |  WARNINGS  |  | 
| liverpool  | Windows Server 2003 R2 (32-bit) / x64  |  OK  |  WARNINGS  |  OK  | 
| gewurz  | Windows Server 2008 R2 Enterprise (64-bit) / x64  |  OK  |  WARNINGS  |  OK  | 
| moscato1  | Windows Server 2008 R2 Enterprise (64-bit) / x64  |  OK  |  WARNINGS  | [ OK ] | 
| pitt  | Mac OS X Leopard (10.5.8) / i386  |  OK  |  WARNINGS  |  OK  | 
install for i386
* installing *source* package 'CGHnormaliter' ...
** R
** data
** inst
** preparing package for lazy loading
Loading required package: impute
Loading required package: DNAcopy
**************************************************************************
   The plan to change the data format for CNA object has been postponed   
 in order to ensure backward compatibility with older versions of DNAcopy 
**************************************************************************
Loading required package: Biobase
Welcome to Bioconductor
  Vignettes contain introductory material. To view, type
  'browseVignettes()'. To cite Bioconductor, see
  'citation("Biobase")' and for packages 'citation("pkgname")'.
Loading required package: CGHbase
Loading required package: marray
Loading required package: limma
Attaching package: 'CGHcall'
The following object(s) are masked from 'package:CGHbase':
    bpend, bpstart, calls, calls<-, chromosomes, copynumber,
    copynumber<-, probamp, probamp<-, probgain, probgain<-, probloss,
    probloss<-, probnorm, probnorm<-, segmented, segmented<-
** help
*** installing help indices
** building package indices ...
*** tangling vignette sources ...
   'CGHnormaliter.Rnw' 
Warning: value of 'results' option should be lowercase
Warning: value of 'results' option should be lowercase
** testing if installed package can be loaded
add DLL for x64
* installing *source* package 'CGHnormaliter' ...
** testing if installed package can be loaded
* MD5 sums
packaged installation of 'CGHnormaliter' as CGHnormaliter_1.7.0.zip
* DONE (CGHnormaliter)