BufferedMatrixMethods 1.17.0 B. M. Bolstad
 | Snapshot Date: 2011-07-06 19:21:50 -0700 (Wed, 06 Jul 2011) |  | URL: https://hedgehog.fhcrc.org/bioconductor/trunk/madman/Rpacks/BufferedMatrixMethods |  | Last Changed Rev: 54802 / Revision: 56603 |  | Last Changed Date: 2011-04-13 15:36:43 -0700 (Wed, 13 Apr 2011) |  
  | wilson2  | Linux (openSUSE 11.4) / x86_64  |  OK  |  OK  |  | 
| liverpool  | Windows Server 2003 R2 (32-bit) / x64  |  OK  |  OK  | [ OK ] | 
| gewurz  | Windows Server 2008 R2 Enterprise (64-bit) / x64  |  OK  |  OK  |  OK  | 
| moscato1  | Windows Server 2008 R2 Enterprise (64-bit) / x64  |  OK  |  OK  |  OK  | 
| pitt  | Mac OS X Leopard (10.5.8) / i386  |  OK  |  OK  |  OK  | 
* installing *source* package 'BufferedMatrixMethods' ...
** libs
gcc  -I"E:/biocbld/bbs-2.9-bioc/R/include"    -I"E:/biocbld/bbs-2.9-bioc/R/library/BufferedMatrix/include"      -O3 -Wall  -std=gnu99 -c init_package.c -o init_package.o
gcc  -I"E:/biocbld/bbs-2.9-bioc/R/include"    -I"E:/biocbld/bbs-2.9-bioc/R/library/BufferedMatrix/include"      -O3 -Wall  -std=gnu99 -c preprocess_bm.c -o preprocess_bm.o
preprocess_bm.c: In function 'bm_rma_bg_correct':
preprocess_bm.c:344:7: warning: unused variable 'i'
preprocess_bm.c: In function 'R_bm_rma_bg_correct':
preprocess_bm.c:378:7: warning: unused variable 'current_mode'
preprocess_bm.c: In function 'R_bm_quantile_normalize':
preprocess_bm.c:593:7: warning: unused variable 'current_mode'
preprocess_bm.c: In function 'R_bm_rma_bg_correct_quantile_normalize':
preprocess_bm.c:1151:7: warning: unused variable 'current_mode'
preprocess_bm.c: At top level:
preprocess_bm.c:453:12: warning: 'min' defined but not used
gcc -shared -s -static-libgcc -o BufferedMatrixMethods.dll tmp.def init_package.o preprocess_bm.o -LE:/biocbld/bbs-2.9-bioc/R/bin/i386 -lR
installing to E:/biocbld/bbs-2.9-bioc/meat/BufferedMatrixMethods.buildbin-libdir/BufferedMatrixMethods/libs/i386
** R
** preparing package for lazy loading
Attaching package: 'BufferedMatrix'
The following object(s) are masked from 'package:base':
    colMeans, colSums, rowMeans, rowSums
** help
*** installing help indices
** building package indices ...
** testing if installed package can be loaded
* MD5 sums
packaged installation of 'BufferedMatrixMethods' as BufferedMatrixMethods_1.17.0.zip
* DONE (BufferedMatrixMethods)