Bioconductor 1.1.9 Biocore Team c/o BioC user list
 | Snapshot Date: 2011-06-14 19:20:23 -0700 (Tue, 14 Jun 2011) |  | URL: https://hedgehog.fhcrc.org/bioconductor/trunk/madman/Rpacks/Bioconductor |  | Last Changed Rev: 56084 / Revision: 56189 |  | Last Changed Date: 2011-06-09 11:56:04 -0700 (Thu, 09 Jun 2011) |  
  | wilson2  | Linux (openSUSE 11.4) / x86_64  |  OK  |  OK  |  | 
| liverpool  | Windows Server 2003 R2 (32-bit) / x64  |  OK  |  OK  |  OK  | 
| gewurz  | Windows Server 2008 R2 Enterprise (64-bit) / x64  |  OK  |  OK  | [ OK ] | 
| pelham  | Mac OS X Leopard (10.5.8) / i386  |  OK  |  OK  |  OK  | 
* installing *source* package 'Bioconductor' ...
** R
** inst
** preparing package for lazy loading
** help
*** installing help indices
** building package indices ...
** testing if installed package can be loaded
Bioconductor package version 1.1.9 loaded, type ?biocLite for help
* MD5 sums
packaged installation of 'Bioconductor' as Bioconductor_1.1.9.zip
* DONE (Bioconductor)