BioSeqClass 1.11.0 Li Hong
 | Snapshot Date: 2011-07-06 19:21:50 -0700 (Wed, 06 Jul 2011) |  | URL: https://hedgehog.fhcrc.org/bioconductor/trunk/madman/Rpacks/BioSeqClass |  | Last Changed Rev: 56578 / Revision: 56603 |  | Last Changed Date: 2011-07-05 17:51:53 -0700 (Tue, 05 Jul 2011) |  
  | wilson2  | Linux (openSUSE 11.4) / x86_64  |  OK  |  OK  |  | 
| liverpool  | Windows Server 2003 R2 (32-bit) / x64  |  OK  |  OK  |  OK  | 
| gewurz  | Windows Server 2008 R2 Enterprise (64-bit) / x64  |  OK  |  OK  | [ OK ] | 
| moscato1  | Windows Server 2008 R2 Enterprise (64-bit) / x64  |  OK  |  ERROR  |  ERROR  | 
| pitt  | Mac OS X Leopard (10.5.8) / i386  |  OK  |  OK  |  OK  | 
* installing *source* package 'BioSeqClass' ...
** R
** data
** inst
** preparing package for lazy loading
Loading required package: rpart
Loading required package: MASS
Loading required package: mlbench
Loading required package: survival
Loading required package: splines
Loading required package: class
Loading required package: nnet
Loading required package: mvtnorm
Loading required package: modeltools
Loading required package: stats4
** help
*** installing help indices
** building package indices ...
*** tangling vignette sources ...
   'BioSeqClass.Rnw' 
** testing if installed package can be loaded
* MD5 sums
packaged installation of 'BioSeqClass' as BioSeqClass_1.11.0.zip
* DONE (BioSeqClass)