BeadDataPackR 1.5.2 Mike Smith
 | Snapshot Date: 2011-07-06 19:21:50 -0700 (Wed, 06 Jul 2011) |  | URL: https://hedgehog.fhcrc.org/bioconductor/trunk/madman/Rpacks/BeadDataPackR |  | Last Changed Rev: 56459 / Revision: 56603 |  | Last Changed Date: 2011-06-29 03:45:07 -0700 (Wed, 29 Jun 2011) |  
  | wilson2  | Linux (openSUSE 11.4) / x86_64  |  OK  |  OK  |  | 
| liverpool  | Windows Server 2003 R2 (32-bit) / x64  |  OK  |  OK  |  OK  | 
| gewurz  | Windows Server 2008 R2 Enterprise (64-bit) / x64  |  OK  |  OK  | [ OK ] | 
| moscato1  | Windows Server 2008 R2 Enterprise (64-bit) / x64  |  OK  |  OK  |  OK  | 
| pitt  | Mac OS X Leopard (10.5.8) / i386  |  OK  |  OK  |  OK  | 
* installing *source* package 'BeadDataPackR' ...
** libs
x86_64-w64-mingw32-gcc  -I"D:/biocbld/bbs-2.9-bioc/R/include"          -O2 -Wall  -std=gnu99 -c BeadDataPackR.c -o BeadDataPackR.o
x86_64-w64-mingw32-gcc  -I"D:/biocbld/bbs-2.9-bioc/R/include"          -O2 -Wall  -std=gnu99 -c R_init_BeadDataPackR.c -o R_init_BeadDataPackR.o
x86_64-w64-mingw32-gcc -shared -s -static-libgcc -o BeadDataPackR.dll tmp.def BeadDataPackR.o R_init_BeadDataPackR.o -LD:/biocbld/bbs-2.9-bioc/R/bin/x64 -lR
installing to D:/biocbld/bbs-2.9-bioc/meat/BeadDataPackR.buildbin-libdir/BeadDataPackR/libs/x64
** R
** inst
** preparing package for lazy loading
** help
*** installing help indices
** building package indices ...
*** tangling vignette sources ...
   'BeadDataPackR.rnw' 
** testing if installed package can be loaded
* MD5 sums
packaged installation of 'BeadDataPackR' as BeadDataPackR_1.5.2.zip
* DONE (BeadDataPackR)