BHC 1.5.0 Rich Savage
 | Snapshot Date: 2011-07-06 19:21:50 -0700 (Wed, 06 Jul 2011) |  | URL: https://hedgehog.fhcrc.org/bioconductor/trunk/madman/Rpacks/BHC |  | Last Changed Rev: 54802 / Revision: 56603 |  | Last Changed Date: 2011-04-13 15:36:43 -0700 (Wed, 13 Apr 2011) |  
  | wilson2  | Linux (openSUSE 11.4) / x86_64  |  OK  |  OK  |  | 
| liverpool  | Windows Server 2003 R2 (32-bit) / x64  |  OK  |  OK  |  OK  | 
| gewurz  | Windows Server 2008 R2 Enterprise (64-bit) / x64  |  OK  |  OK  | [ OK ] | 
| moscato1  | Windows Server 2008 R2 Enterprise (64-bit) / x64  |  OK  |  OK  |  OK  | 
| pitt  | Mac OS X Leopard (10.5.8) / i386  |  OK  |  OK  |  OK  | 
* installing *source* package 'BHC' ...
** libs
x86_64-w64-mingw32-g++  -I"D:/biocbld/bbs-2.9-bioc/R/include"          -O2 -Wall  -c CalculateHyperparameters.cpp -o CalculateHyperparameters.o
x86_64-w64-mingw32-g++  -I"D:/biocbld/bbs-2.9-bioc/R/include"          -O2 -Wall  -c OutputDendrogramInformation.cpp -o OutputDendrogramInformation.o
x86_64-w64-mingw32-g++  -I"D:/biocbld/bbs-2.9-bioc/R/include"          -O2 -Wall  -c ReadInData.cpp -o ReadInData.o
ReadInData.cpp: In function 'NODE* ReadInData(int, int, double, int, int*)':
ReadInData.cpp:43:36: warning: suggest parentheses around comparison in operand of '|'
x86_64-w64-mingw32-g++  -I"D:/biocbld/bbs-2.9-bioc/R/include"          -O2 -Wall  -c bayeslink_binf.cpp -o bayeslink_binf.o
bayeslink_binf.cpp: In function 'double bayeslink_binf(NODE*, int, int, double, double, double, int)':
bayeslink_binf.cpp:23:12: warning: 'node1' may be used uninitialized in this function
bayeslink_binf.cpp:23:19: warning: 'node2' may be used uninitialized in this function
x86_64-w64-mingw32-g++  -I"D:/biocbld/bbs-2.9-bioc/R/include"          -O2 -Wall  -c bhc.cpp -o bhc.o
x86_64-w64-mingw32-g++  -I"D:/biocbld/bbs-2.9-bioc/R/include"          -O2 -Wall  -c binevidence.cpp -o binevidence.o
binevidence.cpp: In function 'double binevidence(NODE*, int, double**, int, int, int)':
binevidence.cpp:26:12: warning: unused variable 's1'
binevidence.cpp:26:33: warning: unused variable 's4'
x86_64-w64-mingw32-g++  -I"D:/biocbld/bbs-2.9-bioc/R/include"          -O2 -Wall  -c gammaln.cpp -o gammaln.o
x86_64-w64-mingw32-g++ -shared -s -static-libgcc -o BHC.dll tmp.def CalculateHyperparameters.o OutputDendrogramInformation.o ReadInData.o bayeslink_binf.o bhc.o binevidence.o gammaln.o -LD:/biocbld/bbs-2.9-bioc/R/bin/x64 -lR
installing to D:/biocbld/bbs-2.9-bioc/meat/BHC.buildbin-libdir/BHC/libs/x64
** R
** inst
** preparing package for lazy loading
** help
*** installing help indices
** building package indices ...
*** tangling vignette sources ...
   'bhc.Rnw' using 'UTF-8' 
** testing if installed package can be loaded
* MD5 sums
packaged installation of 'BHC' as BHC_1.5.0.zip
* DONE (BHC)