AnnotationDbi 1.15.9 Biocore Team c/o BioC user list
 | Snapshot Date: 2011-06-21 19:21:48 -0700 (Tue, 21 Jun 2011) |  | URL: https://hedgehog.fhcrc.org/bioconductor/trunk/madman/Rpacks/AnnotationDbi |  | Last Changed Rev: 55942 / Revision: 56351 |  | Last Changed Date: 2011-06-01 14:48:42 -0700 (Wed, 01 Jun 2011) |  
  | wilson2  | Linux (openSUSE 11.4) / x86_64  |  OK  |  OK  |  | 
| liverpool  | Windows Server 2003 R2 (32-bit) / x64  |  OK  |  OK  |  OK  | 
| gewurz  | Windows Server 2008 R2 Enterprise (64-bit) / x64  |  OK  |  OK  |  OK  | 
| moscato1  | Windows Server 2008 R2 Enterprise (64-bit) / x64  |  OK  |  OK  |  OK  | 
| pelham  | Mac OS X Leopard (10.5.8) / i386  |  OK  |  OK  | [ OK ] | 
>>>>>>> 
>>>>>>> INSTALLATION WITH 'R CMD INSTALL --preclean --library=AnnotationDbi.buildbin-libdir AnnotationDbi_1.15.9.tar.gz'
>>>>>>> 
* installing *source* package ‘AnnotationDbi’ ...
** R
** inst
** preparing package for lazy loading
Welcome to Bioconductor
  Vignettes contain introductory material. To view, type
  'browseVignettes()'. To cite Bioconductor, see
  'citation("Biobase")' and for packages 'citation("pkgname")'.
Creating a generic function for "toString" from package "base" in package “AnnotationDbi”
Creating a generic function for "rev" from package "base" in package “AnnotationDbi”
Creating a generic function for "colnames" from package "base" in package “AnnotationDbi”
Creating a generic function for "subset" from package "base" in package “AnnotationDbi”
Creating a generic function for "as.data.frame" from package "base" in package “AnnotationDbi”
Creating a generic function for "head" from package "utils" in package “AnnotationDbi”
Creating a generic function for "tail" from package "utils" in package “AnnotationDbi”
Creating a generic function for "nrow" from package "base" in package “AnnotationDbi”
Creating a generic function for "ncol" from package "base" in package “AnnotationDbi”
Creating a generic function for "as.list" from package "base" in package “AnnotationDbi”
Creating a generic function for "ls" from package "base" in package “AnnotationDbi”
Creating a generic function for "mget" from package "base" in package “AnnotationDbi”
Creating a generic function for "eapply" from package "base" in package “AnnotationDbi”
Creating a generic function for "get" from package "base" in package “AnnotationDbi”
Creating a generic function for "exists" from package "base" in package “AnnotationDbi”
Creating a generic function for "sample" from package "base" in package “AnnotationDbi”
** help
*** installing help indices
** building package indices ...
*** tangling vignette sources ...
   ‘AnnotationDbi.Rnw’ 
   ‘NewSchema.Rnw’ 
   ‘SQLForge.Rnw’ 
   ‘makeProbePackage.Rnw’ 
** testing if installed package can be loaded
* DONE (AnnotationDbi)