| Back to the "Multiple platform build/check report" | [A] B C D E F G H I J K L M N O P Q R S T U V W X Y Z |
| Package 37/462 | Hostname | OS / Arch | BUILD | CHECK | BUILD BIN | ||||
| aroma.light 1.21.0 Henrik Bengtsson
| wilson2 | Linux (openSUSE 11.4) / x86_64 | OK | ERROR | |||||
| liverpool | Windows Server 2003 R2 (32-bit) / x64 | [ OK ] | ERROR | OK | |||||
| gewurz | Windows Server 2008 R2 Enterprise (64-bit) / x64 | OK | ERROR | OK | |||||
| pelham | Mac OS X Leopard (10.5.8) / i386 | OK | ERROR | OK |
| Package: aroma.light |
| Version: 1.21.0 |
| Command: chmod a+r aroma.light -R && E:\biocbld\bbs-2.9-bioc\R\bin\R.exe CMD build --keep-empty-dirs --no-resave-data aroma.light |
| StartedAt: 2011-05-09 10:14:50 -0700 (Mon, 09 May 2011) |
| EndedAt: 2011-05-09 10:14:55 -0700 (Mon, 09 May 2011) |
| EllapsedTime: 4.8 seconds |
| RetCode: 0 |
| Status: OK |
| PackageFile: aroma.light_1.21.0.tar.gz |
| PackageFileSize: 380.4 KiB |
* checking for file 'aroma.light/DESCRIPTION' ... OK * preparing 'aroma.light': * checking DESCRIPTION meta-information ... OK * checking for LF line-endings in source and make files * checking for empty or unneeded directories * building 'aroma.light_1.21.0.tar.gz'