| NuPoP 1.3.0 Ji-Ping Wang
 
 | Snapshot Date: 2011-05-09 07:20:56 -0700 (Mon, 09 May 2011) |  | URL: https://hedgehog.fhcrc.org/bioconductor/trunk/madman/Rpacks/NuPoP |  | Last Changed Rev: 54802 / Revision: 55359 |  | Last Changed Date: 2011-04-13 15:36:43 -0700 (Wed, 13 Apr 2011) | 
 | wilson2 | Linux (openSUSE 11.4) / x86_64 | OK | OK |  | 
| liverpool | Windows Server 2003 R2 (32-bit) / x64 | OK | OK | [ OK ] | 
| gewurz | Windows Server 2008 R2 Enterprise (64-bit) / x64 | OK | OK | OK | 
| pelham | Mac OS X Leopard (10.5.8) / i386 | OK | OK | OK | 
* installing *source* package 'NuPoP' ...
** libs
gfortran    -O3  -c  vtbfb.f90 -o vtbfb.o
gfortran    -O3  -c  vtbfbNL4.f90 -o vtbfbNL4.o
gfortran -shared -s -static-libgcc -o NuPoP.dll tmp.def vtbfb.o vtbfbNL4.o -LE:/biocbld/bbs-2.9-bioc/R/bin/i386 -lR
installing to E:/biocbld/bbs-2.9-bioc/meat/NuPoP.buildbin-libdir/NuPoP/libs/i386
** R
** inst
** preparing package for lazy loading
** help
*** installing help indices
** building package indices ...
*** tangling vignette sources ...
   'NuPoP-intro.Rnw' 
** testing if installed package can be loaded
* MD5 sums
packaged installation of 'NuPoP' as NuPoP_1.3.0.zip
* DONE (NuPoP)