| AgiMicroRna 2.3.1 Pedro Lopez-Romero
 
 | Snapshot Date: 2011-05-09 07:20:56 -0700 (Mon, 09 May 2011) |  | URL: https://hedgehog.fhcrc.org/bioconductor/trunk/madman/Rpacks/AgiMicroRna |  | Last Changed Rev: 55341 / Revision: 55359 |  | Last Changed Date: 2011-05-08 20:15:32 -0700 (Sun, 08 May 2011) | 
 | wilson2 | Linux (openSUSE 11.4) / x86_64 | OK | OK |  | 
| liverpool | Windows Server 2003 R2 (32-bit) / x64 | OK | OK | OK | 
| gewurz | Windows Server 2008 R2 Enterprise (64-bit) / x64 | OK | OK | OK | 
| pelham | Mac OS X Leopard (10.5.8) / i386 | OK | [ OK ] | OK | 
* using log directory ‘/Users/biocbuild/bbs-2.9-bioc/meat/AgiMicroRna.Rcheck’
* using R version 2.14.0 Under development (unstable) (2011-04-24 r55634)
* using platform: i386-apple-darwin9.8.0 (32-bit)
* using session charset: UTF-8
* using option ‘--no-vignettes’
* checking for file ‘AgiMicroRna/DESCRIPTION’ ... OK
* this is package ‘AgiMicroRna’ version ‘2.3.1’
* checking package name space information ... OK
* checking package dependencies ... OK
* checking if this is a source package ... OK
* checking whether package ‘AgiMicroRna’ can be installed ... OK
* checking installed package size ... NOTE
  installed size is  6.2Mb
  sub-directories of 1Mb or more:
    data   1.8Mb
    doc    4.2Mb
* checking package directory ... OK
* checking for portable file names ... OK
* checking for sufficient/correct file permissions ... OK
* checking DESCRIPTION meta-information ... OK
* checking top-level files ... OK
* checking index information ... OK
* checking package subdirectories ... OK
* checking R files for non-ASCII characters ... OK
* checking R files for syntax errors ... OK
* checking whether the package can be loaded ... OK
* checking whether the package can be loaded with stated dependencies ... OK
* checking whether the package can be unloaded cleanly ... OK
* checking whether the name space can be loaded with stated dependencies ... OK
* checking whether the name space can be unloaded cleanly ... OK
* checking for unstated dependencies in R code ... OK
* checking S3 generic/method consistency ... OK
* checking replacement functions ... OK
* checking foreign function calls ... OK
* checking R code for possible problems ... OK
* checking Rd files ... OK
* checking Rd metadata ... OK
* checking Rd cross-references ... OK
* checking for missing documentation entries ... OK
* checking for code/documentation mismatches ... OK
* checking Rd \usage sections ... OK
* checking Rd contents ... OK
* checking for unstated dependencies in examples ... OK
* checking contents of ‘data’ directory ... OK
* checking data for non-ASCII characters ... OK
* checking data for ASCII and uncompressed saves ... OK
* checking sizes of PDF files under ‘inst/doc’ ... NOTE
  ‘qpdf’ made some significant size reductions:
     compacted ‘AgiMicroRna.pdf’ from 4189Kb to 329Kb
  consider running tools::compactPDF() on these files
* checking examples ... OK
* checking for unstated dependencies in vignettes ... OK
* checking package vignettes in ‘inst/doc’ ... OK
* checking running R code from vignettes ... SKIPPED
* checking re-building of vignettes ... SKIPPED
* checking PDF version of manual ... OK
 
* installing *source* package ‘AgiMicroRna’ ...
** R
** data
** inst
** preparing package for lazy loading
Welcome to Bioconductor
  Vignettes contain introductory material. To view, type
  'browseVignettes()'. To cite Bioconductor, see
  'citation("Biobase")' and for packages 'citation("pkgname")'.
Loading required package: GO.db
Loading required package: AnnotationDbi
Loading required package: DBI
Loading required package: KEGG.db
** help
*** installing help indices
** building package indices ...
*** tangling vignette sources ...
   ‘AgiMicroRna.Rnw’ using ‘latin1’ 
** testing if installed package can be loaded
* DONE (AgiMicroRna)