| hmyriB36 0.99.5 Vincent Carey
 
 | Snapshot Date: 2010-11-12 00:25:07 -0800 (Fri, 12 Nov 2010) |  | URL: https://hedgehog.fhcrc.org/bioc-data/trunk/experiment/pkgs/hmyriB36 |  | Last Changed Rev: 1343 / Revision: 1384 |  | Last Changed Date: 2010-10-13 18:23:01 -0700 (Wed, 13 Oct 2010) | 
 | lamb1 | Linux (openSUSE 11.3) / x86_64 | OK | WARNINGS |  | 
| liverpool | Windows Server 2003 R2 (32-bit) / x64 | OK | WARNINGS | [ OK ] | 
| pelham | Mac OS X Leopard (10.5.8) / i386 | OK | WARNINGS | OK | 
* installing *source* package 'hmyriB36' ...
  Using auto-selected zip option '--use-zip-data'
** R
** data
** inst
** preparing package for lazy loading
Welcome to Bioconductor
  Vignettes contain introductory material. To view, type
  'openVignette()'. To cite Bioconductor, see
  'citation("Biobase")' and for packages 'citation(pkgname)'.
Loading required package: snpMatrix2
Loading required package: survival
Loading required package: splines
Loading required package: RSQLite
Loading required package: DBI
** help
*** installing help indices
** building package indices ...
** testing if installed package can be loaded
* MD5 sums
packaged installation of 'hmyriB36' as hmyriB36_0.99.5.zip
* DONE (hmyriB36)