| GGdata 1.0.5 VJ Carey
 
 | Snapshot Date: 2010-11-12 00:25:07 -0800 (Fri, 12 Nov 2010) |  | URL: https://hedgehog.fhcrc.org/bioc-data/trunk/experiment/pkgs/GGdata |  | Last Changed Rev: 1344 / Revision: 1384 |  | Last Changed Date: 2010-10-13 18:24:16 -0700 (Wed, 13 Oct 2010) | 
 | lamb1 | Linux (openSUSE 11.3) / x86_64 | OK | WARNINGS |  | 
| liverpool | Windows Server 2003 R2 (32-bit) / x64 | [ OK ] | WARNINGS | OK | 
| pelham | Mac OS X Leopard (10.5.8) / i386 | OK | WARNINGS | OK | 
* checking for file 'GGdata/DESCRIPTION' ... OK
* preparing 'GGdata':
* checking DESCRIPTION meta-information ... OK
* checking for LF line-endings in source and make files
* checking for empty or unneeded directories
WARNING: directory 'GGdata/inst/extdata' is empty
* building 'GGdata_1.0.5.tar.gz'