snpMatrix2 1.1.8 David Clayton
 | Snapshot Date: 2011-02-20 11:25:57 -0800 (Sun, 20 Feb 2011) |  | URL: https://hedgehog.fhcrc.org/bioconductor/trunk/madman/Rpacks/snpMatrix2 |  | Last Changed Rev: 52795 / Revision: 53021 |  | Last Changed Date: 2011-02-16 02:33:51 -0800 (Wed, 16 Feb 2011) |  
  | lamb2  | Linux (openSUSE 11.2) / x86_64  |  OK  |  OK  |  | 
| liverpool  | Windows Server 2003 R2 (32-bit) / x64  | [ OK ] |  OK  |  OK  | 
| gewurz  | Windows Server 2008 R2 Enterprise (64-bit) / x64  |  OK  |  OK  |  OK  | 
| pelham  | Mac OS X Leopard (10.5.8) / i386  |  OK  |  OK  |  OK  | 
| petty  | Mac OS X Snow Leopard (10.6.4) / i386  |  OK  |  OK  |  OK  | 
* checking for file 'snpMatrix2/DESCRIPTION' ... OK
* preparing 'snpMatrix2':
* checking DESCRIPTION meta-information ... OK
* cleaning src
* installing the package to re-build vignettes
* creating vignettes ... OK
* cleaning src
* checking for LF line-endings in source and make files
* checking for empty or unneeded directories
* building 'snpMatrix2_1.1.8.tar.gz'