| Back to the "Multiple platform build/check report" | A B C D E F G H I J K L M N O [P] Q R S T U V W X Y Z |
| Package 335/467 | Hostname | OS / Arch | BUILD | CHECK | BUILD BIN | ||||
| pgUtils 1.24.0 Johannes Rainer
| lamb1 | Linux (openSUSE 11.3) / x86_64 | OK | OK | |||||
| liverpool | Windows Server 2003 R2 (32-bit) / x64 | N O T S U P P O R T E D | |||||||
| gewurz | Windows Server 2008 R2 Enterprise SP1 (64-bit) / x64 | N O T S U P P O R T E D | |||||||
| pelham | Mac OS X Leopard (10.5.8) / i386 | [ OK ] | OK | OK | |||||
| Package: pgUtils |
| Version: 1.24.0 |
| Command: /Library/Frameworks/R.framework/Versions/2.13/Resources/bin/R CMD build --keep-empty-dirs --no-resave-data pgUtils |
| StartedAt: 2011-10-20 10:35:25 -0700 (Thu, 20 Oct 2011) |
| EndedAt: 2011-10-20 10:35:27 -0700 (Thu, 20 Oct 2011) |
| EllapsedTime: 1.8 seconds |
| RetCode: 0 |
| Status: OK |
| PackageFile: pgUtils_1.24.0.tar.gz |
| PackageFileSize: 91.67 KiB |
* checking for file 'pgUtils/DESCRIPTION' ... OK * preparing 'pgUtils': * checking DESCRIPTION meta-information ... OK * checking for LF line-endings in source and make files * checking for empty or unneeded directories * building 'pgUtils_1.24.0.tar.gz'