| inveRsion 1.0.0 Alejandro Caceres
 
 | Snapshot Date: 2011-10-20 07:20:33 -0700 (Thu, 20 Oct 2011) |  | URL: https://hedgehog.fhcrc.org/bioconductor/branches/RELEASE_2_8/madman/Rpacks/inveRsion |  | Last Changed Rev: 54808 / Revision: 59457 |  | Last Changed Date: 2011-04-13 18:03:42 -0700 (Wed, 13 Apr 2011) | 
 | lamb1 | Linux (openSUSE 11.3) / x86_64 | OK | OK |  | 
| liverpool | Windows Server 2003 R2 (32-bit) / x64 | OK | OK | OK | 
| gewurz | Windows Server 2008 R2 Enterprise SP1 (64-bit) / x64 | OK | WARNINGS | [ OK ] | 
| pelham | Mac OS X Leopard (10.5.8) / i386 | OK | OK | OK | 
* installing *source* package 'inveRsion' ...
** libs
x86_64-w64-mingw32-gcc -I"D:/biocbld/bbs-2.8-bioc/R/include"          -O2 -Wall  -std=gnu99 -c init_inveRsion.c -o init_inveRsion.o
x86_64-w64-mingw32-gcc -I"D:/biocbld/bbs-2.8-bioc/R/include"          -O2 -Wall  -std=gnu99 -c inversionModel.c -o inversionModel.o
inversionModel.c: In function 'blockAndLev':
inversionModel.c:185:9: warning: suggest parentheses around comparison in operand of '&'
inversionModel.c:167:8: warning: unused variable 'ncol'
inversionModel.c: In function 'inversionModel':
inversionModel.c:358:4: warning: suggest parentheses around comparison in operand of '&'
inversionModel.c:237:26: warning: unused variable 'i'
inversionModel.c:237:8: warning: unused variable 'ncol'
inversionModel.c:453:11: warning: 'LoglikeInv' may be used uninitialized in this function
x86_64-w64-mingw32-gcc -I"D:/biocbld/bbs-2.8-bioc/R/include"          -O2 -Wall  -std=gnu99 -c writeGenoDat.c -o writeGenoDat.o
writeGenoDat.c: In function 'writeGenoDat':
writeGenoDat.c:36:20: warning: unused variable 'fm'
writeGenoDat.c:36:15: warning: unused variable 'fa'
writeGenoDat.c:34:16: warning: 'dat' may be used uninitialized in this function
x86_64-w64-mingw32-gcc -shared -s -static-libgcc -o inveRsion.dll tmp.def init_inveRsion.o inversionModel.o writeGenoDat.o -LD:/biocbld/bbs-2.8-bioc/R/bin/x64 -lRlapack -LD:/biocbld/bbs-2.8-bioc/R/bin/x64 -lRblas -lgfortran -LD:/biocbld/bbs-2.8-bioc/R/bin/x64 -lR
installing to D:/biocbld/bbs-2.8-bioc/meat/inveRsion.buildbin-libdir/inveRsion/libs/x64
** R
** data
** inst
** preparing package for lazy loading
Creating a new generic function for "plot" in "inveRsion"
** help
*** installing help indices
** building package indices ...
** testing if installed package can be loaded
Hola!
welcome to inevRsion package. 
 
 
type: manual() for full manual 
      vignette("inveRsion") for a quick start 
* MD5 sums
packaged installation of 'inveRsion' as inveRsion_1.0.0.zip
* DONE (inveRsion)