iFlow 2.3.1 Kyongryun Lee
 | Snapshot Date: 2010-11-02 11:19:47 -0700 (Tue, 02 Nov 2010) |  | URL: https://hedgehog.fhcrc.org/bioconductor/trunk/madman/Rpacks/iFlow |  | Last Changed Rev: 47414 / Revision: 50630 |  | Last Changed Date: 2010-06-11 13:53:42 -0700 (Fri, 11 Jun 2010) |  
  | lamb2  | Linux (openSUSE 11.2) / x86_64  |  OK  |  ERROR  |  | 
| liverpool  | Windows Server 2003 R2 (32-bit) / x64  |  OK  |  ERROR  | [ OK ] | 
| gewurz  | Windows Server 2008 R2 Enterprise (64-bit) / x64  | N O T   S U P P O R T E D | 
| pelham  | Mac OS X Leopard (10.5.8) / i386  |  OK  |  ERROR  |  OK  | 
* installing *source* package 'iFlow' ...
** R
** inst
** preparing package for lazy loading
Loading required package: Biobase
Welcome to Bioconductor
  Vignettes contain introductory material. To view, type
  'openVignette()'. To cite Bioconductor, see
  'citation("Biobase")' and for packages 'citation(pkgname)'.
Loading required package: rrcov
Loading required package: robustbase
Loading required package: pcaPP
Loading required package: mvtnorm
Scalable Robust Estimators with High Breakdown Point (version 1.1-00)
Attaching package: 'flowCore'
The following object(s) are masked from 'package:stats':
    alias, filter
Loading required package: lattice
KernSmooth 2.23 loaded
Copyright M. P. Wand 1997-2009
Loading required package: fda
Loading required package: splines
Loading required package: zoo
Loading required package: mvoutlier
Loading required package: cluster
** help
*** installing help indices
** building package indices ...
** testing if installed package can be loaded
* MD5 sums
packaged installation of 'iFlow' as iFlow_2.3.1.zip
* DONE (iFlow)