exonmap 2.9.0 Crispin Miller
 | Snapshot Date: 2010-11-16 11:21:28 -0800 (Tue, 16 Nov 2010) |  | URL: https://hedgehog.fhcrc.org/bioconductor/trunk/madman/Rpacks/exonmap |  | Last Changed Rev: 50295 / Revision: 50911 |  | Last Changed Date: 2010-10-17 22:57:44 -0700 (Sun, 17 Oct 2010) |  
  | lamb2  | Linux (openSUSE 11.2) / x86_64  |  OK  |  OK  |  | 
| liverpool  | Windows Server 2003 R2 (32-bit) / x64  | [ OK ] |  ERROR  |  ERROR  | 
| gewurz  | Windows Server 2008 R2 Enterprise (64-bit) / x64  | N O T   S U P P O R T E D | 
| pelham  | Mac OS X Leopard (10.5.8) / i386  |  OK  |  OK  |  OK  | 
| petty  | Mac OS X Leopard (10.6.4) / i386  |  OK  |  OK  |  OK  |