| biocDatasets 1.7.1 L. Gautier
 
 | Snapshot Date: 2011-03-17 11:16:30 -0700 (Thu, 17 Mar 2011) |  | URL: https://hedgehog.fhcrc.org/bioconductor/trunk/madman/Rpacks/biocDatasets |  | Last Changed Rev: 51089 / Revision: 53825 |  | Last Changed Date: 2010-11-28 16:18:04 -0800 (Sun, 28 Nov 2010) | 
 | lamb1 | Linux (openSUSE 11.3) / x86_64 | OK | WARNINGS |  | 
| liverpool | Windows Server 2003 R2 (32-bit) / x64 | OK | WARNINGS | [ OK ] | 
| gewurz | Windows Server 2008 R2 Enterprise (64-bit) / x64 | OK | WARNINGS | OK | 
| pelham | Mac OS X Leopard (10.5.8) / i386 | OK | WARNINGS | OK | 
| petty | Mac OS X Snow Leopard (10.6.6) / i386 | OK | WARNINGS | OK | 
* installing *source* package 'biocDatasets' ...
** R
** inst
** preparing package for lazy loading
Attaching package: 'IRanges'
The following object(s) are masked from 'package:base':
    Map, cbind, eval, intersect, mapply, order, paste, pmax, pmax.int,
    pmin, pmin.int, rbind, rep.int, setdiff, table, union
** help
*** installing help indices
** building package indices ...
** testing if installed package can be loaded
* MD5 sums
packaged installation of 'biocDatasets' as biocDatasets_1.7.1.zip
* DONE (biocDatasets)