aroma.light 1.19.4 Henrik Bengtsson
| Snapshot Date: 2011-03-17 11:16:30 -0700 (Thu, 17 Mar 2011) | | URL: https://hedgehog.fhcrc.org/bioconductor/trunk/madman/Rpacks/aroma.light | | Last Changed Rev: 53483 / Revision: 53825 | | Last Changed Date: 2011-03-07 00:19:07 -0800 (Mon, 07 Mar 2011) |
| lamb1 | Linux (openSUSE 11.3) / x86_64 | OK | OK | |
| liverpool | Windows Server 2003 R2 (32-bit) / x64 | OK | OK | OK |
| gewurz | Windows Server 2008 R2 Enterprise (64-bit) / x64 | OK | OK | OK |
| pelham | Mac OS X Leopard (10.5.8) / i386 | OK | OK | OK |
| petty | Mac OS X Snow Leopard (10.6.6) / i386 | [ OK ] | WARNINGS | OK |