| a4 1.1.2 Tobias Verbeke
 
 | Snapshot Date: 2011-10-20 07:20:33 -0700 (Thu, 20 Oct 2011) |  | URL: https://hedgehog.fhcrc.org/bioconductor/branches/RELEASE_2_8/madman/Rpacks/a4 |  | Last Changed Rev: 56034 / Revision: 59457 |  | Last Changed Date: 2011-06-08 00:42:25 -0700 (Wed, 08 Jun 2011) | 
 | lamb1 | Linux (openSUSE 11.3) / x86_64 | OK | WARNINGS |  | 
| liverpool | Windows Server 2003 R2 (32-bit) / x64 | OK | WARNINGS | [ OK ] | 
| gewurz | Windows Server 2008 R2 Enterprise SP1 (64-bit) / x64 | OK | WARNINGS | OK | 
| pelham | Mac OS X Leopard (10.5.8) / i386 | OK | WARNINGS | OK | 
* installing *source* package 'a4' ...
** R
** inst
** preparing package for lazy loading
mpm version 1.0-18
Warning: replacing previous import 'head' when loading 'utils'
Warning: replacing previous import 'tail' when loading 'utils'
a4Base version 1.0.1
** help
No man pages found in package  'a4' 
*** installing help indices
** building package indices ...
** testing if installed package can be loaded
mpm version 1.0-18
a4Base version 1.0.1
Warning messages:
1: replacing previous import 'head' when loading 'utils' 
2: replacing previous import 'tail' when loading 'utils' 
* MD5 sums
packaged installation of 'a4' as a4_1.1.2.zip
* DONE (a4)