RNAinteract 1.0.0 Bernd Fischer
 | Snapshot Date: 2011-10-14 07:21:38 -0700 (Fri, 14 Oct 2011) |  | URL: https://hedgehog.fhcrc.org/bioconductor/branches/RELEASE_2_8/madman/Rpacks/RNAinteract |  | Last Changed Rev: 54800 / Revision: 59225 |  | Last Changed Date: 2011-04-13 15:27:35 -0700 (Wed, 13 Apr 2011) |  
  | lamb1  | Linux (openSUSE 11.3) / x86_64  |  OK  |  OK  |  | 
| liverpool  | Windows Server 2003 R2 (32-bit) / x64  |  OK  |  OK  |  OK  | 
| gewurz  | Windows Server 2008 R2 Enterprise SP1 (64-bit) / x64  |  OK  |  OK  | [ OK ] | 
| pelham  | Mac OS X Leopard (10.5.8) / i386  |  OK  |  OK  |  OK  | 
* installing *source* package 'RNAinteract' ...
** R
** data
** inst
** preparing package for lazy loading
locfit 1.5-6 	 2010-01-20 
Loading Tcl/Tk interface ... done
Scalable Robust Estimators with High Breakdown Point (version 1.3-01)
** help
*** installing help indices
** building package indices ...
** testing if installed package can be loaded
locfit 1.5-6 	 2010-01-20 
Scalable Robust Estimators with High Breakdown Point (version 1.3-01)
* MD5 sums
packaged installation of 'RNAinteract' as RNAinteract_1.0.0.zip
* DONE (RNAinteract)