OLINgui 1.26.0 Matthias Futschik
 | Snapshot Date: 2011-10-20 07:20:33 -0700 (Thu, 20 Oct 2011) |  | URL: https://hedgehog.fhcrc.org/bioconductor/branches/RELEASE_2_8/madman/Rpacks/OLINgui |  | Last Changed Rev: 54808 / Revision: 59457 |  | Last Changed Date: 2011-04-13 18:03:42 -0700 (Wed, 13 Apr 2011) |  
  | lamb1  | Linux (openSUSE 11.3) / x86_64  |  OK  |  OK  |  | 
| liverpool  | Windows Server 2003 R2 (32-bit) / x64  |  OK  |  OK  | [ OK ] | 
| gewurz  | Windows Server 2008 R2 Enterprise SP1 (64-bit) / x64  |  OK  |  WARNINGS  |  OK  | 
| pelham  | Mac OS X Leopard (10.5.8) / i386  |  OK  |  OK  |  OK  | 
* installing *source* package 'OLINgui' ...
** R
** inst
** preparing package for lazy loading
locfit 1.5-6 	 2010-01-20 
Loading Tcl/Tk interface ... done
Loading required package: Biobase
Welcome to Bioconductor
  Vignettes contain introductory material. To view, type
  'browseVignettes()'. To cite Bioconductor, see
  'citation("Biobase")' and for packages 'citation("pkgname")'.
** help
*** installing help indices
** building package indices ...
** testing if installed package can be loaded
locfit 1.5-6 	 2010-01-20 
* MD5 sums
packaged installation of 'OLINgui' as OLINgui_1.26.0.zip
* DONE (OLINgui)