| MotIV 1.6.0 Eloi Mercier , Raphael Gottardo
 
 | Snapshot Date: 2011-10-20 07:20:33 -0700 (Thu, 20 Oct 2011) |  | URL: https://hedgehog.fhcrc.org/bioconductor/branches/RELEASE_2_8/madman/Rpacks/MotIV |  | Last Changed Rev: 56241 / Revision: 59457 |  | Last Changed Date: 2011-06-16 15:04:11 -0700 (Thu, 16 Jun 2011) | 
 | lamb1 | Linux (openSUSE 11.3) / x86_64 | OK | OK |  | 
| liverpool | Windows Server 2003 R2 (32-bit) / x64 | OK | OK | [ OK ] | 
| gewurz | Windows Server 2008 R2 Enterprise SP1 (64-bit) / x64 | OK | WARNINGS | OK | 
| pelham | Mac OS X Leopard (10.5.8) / i386 | OK | OK | OK | 
* installing *source* package 'MotIV' ...
   **********************************************
   WARNING: this package has a configure script
         It probably needs manual configuration
   **********************************************
** libs
g++ -I"E:/biocbld/bbs-2.8-bioc/R/include" -Ifusion_sdk -D_USE_MEM_MAPPING_ -IC:/GSL/i386/include         -O2 -Wall  -c Alignment.cpp -o Alignment.o
Alignment.cpp: In member function 'virtual double SmithWatermanAffine::AlignMotifs(Motif*, Motif*, int&, int&, int&, bool&)':
Alignment.cpp:793:9: warning: 'forScore' may be used uninitialized in this function
Alignment.cpp: In member function 'virtual double NeedlemanWunsch::AlignMotifs(Motif*, Motif*, int&, int&, int&, bool&)':
Alignment.cpp:592:9: warning: 'forScore' may be used uninitialized in this function
Alignment.cpp: In member function 'virtual double SmithWaterman::AlignMotifs(Motif*, Motif*, int&, int&, int&, bool&)':
Alignment.cpp:244:9: warning: 'forScore' may be used uninitialized in this function
Alignment.cpp:244:19: warning: 'revScore' may be used uninitialized in this function
Alignment.cpp: In member function 'virtual double SmithWatermanUngappedExtended::AlignMotifs(Motif*, Motif*, int&, int&, int&, bool&)':
Alignment.cpp:426:9: warning: 'forScore' may be used uninitialized in this function
g++ -I"E:/biocbld/bbs-2.8-bioc/R/include" -Ifusion_sdk -D_USE_MEM_MAPPING_ -IC:/GSL/i386/include         -O2 -Wall  -c ColumnComp.cpp -o ColumnComp.o
g++ -I"E:/biocbld/bbs-2.8-bioc/R/include" -Ifusion_sdk -D_USE_MEM_MAPPING_ -IC:/GSL/i386/include         -O2 -Wall  -c DeclareAll.cpp -o DeclareAll.o
g++ -I"E:/biocbld/bbs-2.8-bioc/R/include" -Ifusion_sdk -D_USE_MEM_MAPPING_ -IC:/GSL/i386/include         -O2 -Wall  -c Motif.cpp -o Motif.o
g++ -I"E:/biocbld/bbs-2.8-bioc/R/include" -Ifusion_sdk -D_USE_MEM_MAPPING_ -IC:/GSL/i386/include         -O2 -Wall  -c MotifDistances.cpp -o MotifDistances.o
g++ -I"E:/biocbld/bbs-2.8-bioc/R/include" -Ifusion_sdk -D_USE_MEM_MAPPING_ -IC:/GSL/i386/include         -O2 -Wall  -c MotifMatch.cpp -o MotifMatch.o
g++ -I"E:/biocbld/bbs-2.8-bioc/R/include" -Ifusion_sdk -D_USE_MEM_MAPPING_ -IC:/GSL/i386/include         -O2 -Wall  -c PlatformSupport.cpp -o PlatformSupport.o
g++ -I"E:/biocbld/bbs-2.8-bioc/R/include" -Ifusion_sdk -D_USE_MEM_MAPPING_ -IC:/GSL/i386/include         -O2 -Wall  -c RandPSSMGen.cpp -o RandPSSMGen.o
g++ -I"E:/biocbld/bbs-2.8-bioc/R/include" -Ifusion_sdk -D_USE_MEM_MAPPING_ -IC:/GSL/i386/include         -O2 -Wall  -c generateScoresDB.cpp -o generateScoresDB.o
g++ -shared -s -static-libgcc -o MotIV.dll tmp.def Alignment.o ColumnComp.o DeclareAll.o Motif.o MotifDistances.o MotifMatch.o PlatformSupport.o RandPSSMGen.o generateScoresDB.o -lws2_32 -LC:/GSL/i386/lib -lgsl -lgslcblas -lm -LE:/biocbld/bbs-2.8-bioc/R/bin/i386 -lR
installing to E:/biocbld/bbs-2.8-bioc/meat/MotIV.buildbin-libdir/MotIV/libs/i386
** R
** data
** inst
** preparing package for lazy loading
Creating a new generic function for "plot" in "MotIV"
** help
*** installing help indices
** building package indices ...
** testing if installed package can be loaded
* MD5 sums
packaged installation of 'MotIV' as MotIV_1.6.0.zip
* DONE (MotIV)