| GEOmetadb 1.11.0 Jack Zhu
 
 | Snapshot Date: 2011-03-17 11:16:30 -0700 (Thu, 17 Mar 2011) |  | URL: https://hedgehog.fhcrc.org/bioconductor/trunk/madman/Rpacks/GEOmetadb |  | Last Changed Rev: 52444 / Revision: 53825 |  | Last Changed Date: 2011-02-03 18:54:10 -0800 (Thu, 03 Feb 2011) | 
 | lamb1 | Linux (openSUSE 11.3) / x86_64 | OK | OK |  | 
| liverpool | Windows Server 2003 R2 (32-bit) / x64 | OK | OK | OK | 
| gewurz | Windows Server 2008 R2 Enterprise (64-bit) / x64 | ERROR | skipped | skipped | 
| pelham | Mac OS X Leopard (10.5.8) / i386 | OK | OK | OK | 
| petty | Mac OS X Snow Leopard (10.6.6) / i386 | OK | OK | [ OK ] | 
>>>>>>> 
>>>>>>> INSTALLATION WITH 'R CMD INSTALL --preclean --library=GEOmetadb.buildbin-libdir GEOmetadb_1.11.0.tar.gz'
>>>>>>> 
* installing *source* package 'GEOmetadb' ...
** R
** inst
** preparing package for lazy loading
Loading required package: Biobase
Welcome to Bioconductor
  Vignettes contain introductory material. To view, type
  'browseVignettes()'. To cite Bioconductor, see
  'citation("Biobase")' and for packages 'citation("pkgname")'.
Setting options('download.file.method'='curl')
Loading required package: DBI
** help
*** installing help indices
** building package indices ...
** testing if installed package can be loaded
Setting options('download.file.method'='curl')
* DONE (GEOmetadb)