DESeq 1.4.1 Simon Anders
 | Snapshot Date: 2011-10-20 07:20:33 -0700 (Thu, 20 Oct 2011) |  | URL: https://hedgehog.fhcrc.org/bioconductor/branches/RELEASE_2_8/madman/Rpacks/DESeq |  | Last Changed Rev: 54999 / Revision: 59457 |  | Last Changed Date: 2011-04-20 13:23:23 -0700 (Wed, 20 Apr 2011) |  
  | lamb1  | Linux (openSUSE 11.3) / x86_64  |  OK  |  OK  |  | 
| liverpool  | Windows Server 2003 R2 (32-bit) / x64  |  OK  |  OK  |  OK  | 
| gewurz  | Windows Server 2008 R2 Enterprise SP1 (64-bit) / x64  |  OK  |  WARNINGS  |  OK  | 
| pelham  | Mac OS X Leopard (10.5.8) / i386  |  OK  |  OK  | [ OK ] | 
>>>>>>> 
>>>>>>> INSTALLATION WITH 'R CMD INSTALL --preclean --library=DESeq.buildbin-libdir DESeq_1.4.1.tar.gz'
>>>>>>> 
* installing *source* package 'DESeq' ...
** libs
*** arch - i386
gcc-4.2 -arch i386 -std=gnu99 -I/Library/Frameworks/R.framework/Versions/2.13/Resources/include -I/Library/Frameworks/R.framework/Versions/2.13/Resources/include/i386  -I/usr/local/include    -fPIC  -g -O2 -Wall -pedantic -c pval.c -o pval.o
pval.c: In function 'add_from_both_sides':
pval.c:26: warning: unused variable 'esttotalperlength'
gcc-4.2 -arch i386 -std=gnu99 -dynamiclib -Wl,-headerpad_max_install_names -undefined dynamic_lookup -single_module -multiply_defined suppress -L/usr/local/lib -o DESeq.so pval.o -F/Library/Frameworks/R.framework/.. -framework R -Wl,-framework -Wl,CoreFoundation
installing to /Users/biocbuild/bbs-2.8-bioc/meat/DESeq.buildbin-libdir/DESeq/libs/i386
*** arch - ppc
gcc-4.2 -arch ppc -std=gnu99 -I/Library/Frameworks/R.framework/Versions/2.13/Resources/include -I/Library/Frameworks/R.framework/Versions/2.13/Resources/include/ppc  -I/usr/local/include    -fPIC  -g -O2 -Wall -pedantic -c pval.c -o pval.o
pval.c: In function 'add_from_both_sides':
pval.c:26: warning: unused variable 'esttotalperlength'
gcc-4.2 -arch ppc -std=gnu99 -dynamiclib -Wl,-headerpad_max_install_names -undefined dynamic_lookup -single_module -multiply_defined suppress -L/usr/local/lib -o DESeq.so pval.o -F/Library/Frameworks/R.framework/.. -framework R -Wl,-framework -Wl,CoreFoundation
installing to /Users/biocbuild/bbs-2.8-bioc/meat/DESeq.buildbin-libdir/DESeq/libs/ppc
*** arch - x86_64
gcc-4.2 -arch x86_64 -std=gnu99 -I/Library/Frameworks/R.framework/Versions/2.13/Resources/include -I/Library/Frameworks/R.framework/Versions/2.13/Resources/include/x86_64  -I/usr/local/include    -fPIC  -g -O2 -Wall -pedantic -c pval.c -o pval.o
pval.c: In function 'add_from_both_sides':
pval.c:26: warning: unused variable 'esttotalperlength'
gcc-4.2 -arch x86_64 -std=gnu99 -dynamiclib -Wl,-headerpad_max_install_names -undefined dynamic_lookup -single_module -multiply_defined suppress -L/usr/local/lib -o DESeq.so pval.o -F/Library/Frameworks/R.framework/.. -framework R -Wl,-framework -Wl,CoreFoundation
installing to /Users/biocbuild/bbs-2.8-bioc/meat/DESeq.buildbin-libdir/DESeq/libs/x86_64
** R
** inst
** preparing package for lazy loading
locfit 1.5-6 	 2010-01-20 
** help
*** installing help indices
** building package indices ...
** testing if installed package can be loaded
locfit 1.5-6 	 2010-01-20 
* DONE (DESeq)
>>>>>>> 
>>>>>>> FIXING LINKS FOR DESeq.buildbin-libdir/DESeq/libs/i386/DESeq.so
>>>>>>> 
install_name_tool -change "/usr/local/lib/libgcc_s.1.dylib" "/Library/Frameworks/R.framework/Versions/2.13/Resources/lib/libgcc_s.1.dylib" "DESeq.buildbin-libdir/DESeq/libs/i386/DESeq.so"
install_name_tool -change "/usr/local/lib/libgfortran.2.dylib" "/Library/Frameworks/R.framework/Versions/2.13/Resources/lib/libgfortran.2.dylib" "DESeq.buildbin-libdir/DESeq/libs/i386/DESeq.so"
install_name_tool -change "/usr/local/lib/libreadline.5.2.dylib" "/Library/Frameworks/R.framework/Versions/2.13/Resources/lib/libreadline.5.2.dylib" "DESeq.buildbin-libdir/DESeq/libs/i386/DESeq.so"
install_name_tool -change "/usr/local/lib/libreadline.dylib" "/Library/Frameworks/R.framework/Versions/2.13/Resources/lib/libreadline.dylib" "DESeq.buildbin-libdir/DESeq/libs/i386/DESeq.so"
>>>>>>> 
>>>>>>> FIXING LINKS FOR DESeq.buildbin-libdir/DESeq/libs/ppc/DESeq.so
>>>>>>> 
install_name_tool -change "/usr/local/lib/libgcc_s.1.dylib" "/Library/Frameworks/R.framework/Versions/2.13/Resources/lib/libgcc_s.1.dylib" "DESeq.buildbin-libdir/DESeq/libs/ppc/DESeq.so"
install_name_tool -change "/usr/local/lib/libgfortran.2.dylib" "/Library/Frameworks/R.framework/Versions/2.13/Resources/lib/libgfortran.2.dylib" "DESeq.buildbin-libdir/DESeq/libs/ppc/DESeq.so"
install_name_tool -change "/usr/local/lib/libreadline.5.2.dylib" "/Library/Frameworks/R.framework/Versions/2.13/Resources/lib/libreadline.5.2.dylib" "DESeq.buildbin-libdir/DESeq/libs/ppc/DESeq.so"
install_name_tool -change "/usr/local/lib/libreadline.dylib" "/Library/Frameworks/R.framework/Versions/2.13/Resources/lib/libreadline.dylib" "DESeq.buildbin-libdir/DESeq/libs/ppc/DESeq.so"
>>>>>>> 
>>>>>>> FIXING LINKS FOR DESeq.buildbin-libdir/DESeq/libs/x86_64/DESeq.so
>>>>>>> 
install_name_tool -change "/usr/local/lib/libgcc_s.1.dylib" "/Library/Frameworks/R.framework/Versions/2.13/Resources/lib/libgcc_s.1.dylib" "DESeq.buildbin-libdir/DESeq/libs/x86_64/DESeq.so"
install_name_tool -change "/usr/local/lib/libgfortran.2.dylib" "/Library/Frameworks/R.framework/Versions/2.13/Resources/lib/libgfortran.2.dylib" "DESeq.buildbin-libdir/DESeq/libs/x86_64/DESeq.so"
install_name_tool -change "/usr/local/lib/libreadline.5.2.dylib" "/Library/Frameworks/R.framework/Versions/2.13/Resources/lib/libreadline.5.2.dylib" "DESeq.buildbin-libdir/DESeq/libs/x86_64/DESeq.so"
install_name_tool -change "/usr/local/lib/libreadline.dylib" "/Library/Frameworks/R.framework/Versions/2.13/Resources/lib/libreadline.dylib" "DESeq.buildbin-libdir/DESeq/libs/x86_64/DESeq.so"