Bioconductor 0.99.96 Biocore Team c/o BioC user list
 | Snapshot Date: 2011-04-06 11:17:57 -0700 (Wed, 06 Apr 2011) |  | URL: https://hedgehog.fhcrc.org/bioconductor/trunk/madman/Rpacks/Bioconductor |  | Last Changed Rev: 54535 / Revision: 54545 |  | Last Changed Date: 2011-04-06 09:21:46 -0700 (Wed, 06 Apr 2011) |  
  | lamb1  | Linux (openSUSE 11.3) / x86_64  |  OK  |  OK  |  | 
| liverpool  | Windows Server 2003 R2 (32-bit) / x64  |  OK  |  OK  | [ OK ] | 
| gewurz  | Windows Server 2008 R2 Enterprise (64-bit) / x64  |  OK  |  OK  |  OK  | 
| pelham  | Mac OS X Leopard (10.5.8) / i386  |  OK  |  OK  |  OK  | 
* installing *source* package 'Bioconductor' ...
** R
** preparing package for lazy loading
** help
*** installing help indices
** building package indices ...
** testing if installed package can be loaded
Bioconductor version 0.99.96 loaded, type ?biocLite for help
* MD5 sums
packaged installation of 'Bioconductor' as Bioconductor_0.99.96.zip
* DONE (Bioconductor)