mgsa 0.99.0 Sebastian Bauer
 | Snapshot Date: 2011-02-24 11:26:35 -0800 (Thu, 24 Feb 2011) |  | URL: https://hedgehog.fhcrc.org/bioconductor/trunk/madman/Rpacks/mgsa |  | Last Changed Rev: 53026 / Revision: 53255 |  | Last Changed Date: 2011-02-21 05:29:33 -0800 (Mon, 21 Feb 2011) |  
  | lamb2  | Linux (openSUSE 11.2) / x86_64  |  OK  |  OK  |  | 
| liverpool  | Windows Server 2003 R2 (32-bit) / x64  |  OK  |  WARNINGS  |  OK  | 
| gewurz  | Windows Server 2008 R2 Enterprise (64-bit) / x64  |  OK  |  WARNINGS  | [ OK ] | 
| pelham  | Mac OS X Leopard (10.5.8) / i386  |  OK  |  OK  |  OK  | 
| petty  | Mac OS X Snow Leopard (10.6.4) / i386  |  OK  |  OK  |  OK  | 
* installing *source* package 'mgsa' ...
  Using auto-selected zip option '--use-zip-data'
   **********************************************
   WARNING: this package has a configure script
         It probably needs manual configuration
   **********************************************
** libs
x86_64-w64-mingw32-gcc -I"D:/biocbld/bbs-2.8-bioc/R/include"          -O2 -Wall  -std=gnu99 -c mgsa.c -o mgsa.o
mgsa.c: In function 'ts_R_alloc':
mgsa.c:57:0: warning: ignoring #pragma omp critical
mgsa.c: In function 'mgsa_mcmc':
mgsa.c:1432:0: warning: ignoring #pragma omp parallel
mgsa.c:1438:0: warning: ignoring #pragma omp critical
x86_64-w64-mingw32-gcc -shared -s -static-libgcc -o mgsa.dll tmp.def mgsa.o -LD:/biocbld/bbs-2.8-bioc/R/bin/x64 -lR
installing to D:/biocbld/bbs-2.8-bioc/meat/mgsa.buildbin-libdir/mgsa/libs/x64
** R
** data
** inst
** preparing package for lazy loading
Loading required package: gtools
Loading required package: gdata
File type 'perl' not found or no open command associated with it.
Warning: running command 'C:\Windows\system32\cmd.exe /c ftype perl' had status 2
File type 'perl' not found or no open command associated with it.
Warning: running command 'C:\Windows\system32\cmd.exe /c ftype perl' had status 2
gdata: read.xls support for 'XLS' (Excel 97-2004) files ENABLED.
gdata: Unable to load perl libaries needed by read.xls()
gdata: to support 'XLSX' (Excel 2007+) files.
gdata: Run the function 'installXLSXsupport()'
gdata: to automatically download and install the perl
gdata: libaries needed to support Excel XLS and XLSX formats.
Attaching package: 'gdata'
The following object(s) are masked from 'package:utils':
    object.size
Loading required package: caTools
Loading required package: bitops
Loading required package: grid
Attaching package: 'gplots'
The following object(s) are masked from 'package:stats':
    lowess
Creating a new generic function for "plot" in "mgsa"
** help
*** installing help indices
** building package indices ...
** testing if installed package can be loaded
* MD5 sums
packaged installation of 'mgsa' as mgsa_0.99.0.zip
* DONE (mgsa)