| fabia 1.3.1 Sepp Hochreiter
 
 | Snapshot Date: 2011-02-24 11:26:35 -0800 (Thu, 24 Feb 2011) |  | URL: https://hedgehog.fhcrc.org/bioconductor/trunk/madman/Rpacks/fabia |  | Last Changed Rev: 52114 / Revision: 53255 |  | Last Changed Date: 2011-01-26 22:53:32 -0800 (Wed, 26 Jan 2011) | 
 | lamb2 | Linux (openSUSE 11.2) / x86_64 | OK | OK |  | 
| liverpool | Windows Server 2003 R2 (32-bit) / x64 | OK | OK | [ OK ] | 
| gewurz | Windows Server 2008 R2 Enterprise (64-bit) / x64 | OK | OK | OK | 
| pelham | Mac OS X Leopard (10.5.8) / i386 | OK | OK | OK | 
| petty | Mac OS X Snow Leopard (10.6.4) / i386 | OK | OK | OK | 
* installing *source* package 'fabia' ...
Building libRcpp.a in RcppSrc...
rm -f Rcpp.o  libRcpp.a
g++ -c Rcpp.cpp -o Rcpp.o -I"E:/biocbld/bbs-2.8-bioc/R/include" -I"E:/biocbld/bbs-2.8-bioc/R/src/include"  -Wall -O2
ar r libRcpp.a Rcpp.o
C:\Rtools212\MinGW\bin\ar.exe: creating libRcpp.a
ranlib libRcpp.a
rm -f Rcpp.o
rm -f Rcpp.o 
** libs
  running src/Makefile.win ...
rm -f fabia.o fabia.dll *.a *.o *.so *.dll
g++ -c fabiac.cpp -o fabia.o -I../RcppSrc -I"E:/biocbld/bbs-2.8-bioc/R/include" -Wall -O2
g++ -shared -s -static-libgcc fabia.o -L../RcppSrc -lRcpp  -L"E:/biocbld/bbs-2.8-bioc/R/bin/i386"  -lR  -o fabia.dll 
rm -f fabia.o *.a *.o *.so
installing to E:/biocbld/bbs-2.8-bioc/meat/fabia.buildbin-libdir/fabia/libs/i386
** R
** demo
** inst
** preparing package for lazy loading
Creating a new generic function for "plot" in "fabia"
** help
*** installing help indices
** building package indices ...
** testing if installed package can be loaded
* MD5 sums
packaged installation of 'fabia' as fabia_1.3.1.zip
* DONE (fabia)