| EBImage 3.7.2 Gregoire Pau
 
 | Snapshot Date: 2011-02-24 11:26:35 -0800 (Thu, 24 Feb 2011) |  | URL: https://hedgehog.fhcrc.org/bioconductor/trunk/madman/Rpacks/EBImage |  | Last Changed Rev: 52081 / Revision: 53255 |  | Last Changed Date: 2011-01-26 13:25:57 -0800 (Wed, 26 Jan 2011) | 
 | lamb2 | Linux (openSUSE 11.2) / x86_64 | OK | OK |  | 
| liverpool | Windows Server 2003 R2 (32-bit) / x64 | [ OK ] | OK | OK | 
| gewurz | Windows Server 2008 R2 Enterprise (64-bit) / x64 | N O T   S U P P O R T E D | 
| pelham | Mac OS X Leopard (10.5.8) / i386 | N O T   S U P P O R T E D | 
| petty | Mac OS X Snow Leopard (10.6.4) / i386 | N O T   S U P P O R T E D | 
* checking for file 'EBImage/DESCRIPTION' ... OK
* preparing 'EBImage':
* checking DESCRIPTION meta-information ... OK
* cleaning src
* installing the package to re-build vignettes
* creating vignettes ... OK
* cleaning src
* checking for LF line-endings in source and make files
* checking for empty or unneeded directories
* building 'EBImage_3.7.2.tar.gz'