BioSeqClass 1.9.0 Li Hong
| Snapshot Date: 2011-02-24 11:26:35 -0800 (Thu, 24 Feb 2011) | | URL: https://hedgehog.fhcrc.org/bioconductor/trunk/madman/Rpacks/BioSeqClass | | Last Changed Rev: 51313 / Revision: 53255 | | Last Changed Date: 2010-12-07 10:27:54 -0800 (Tue, 07 Dec 2010) |
| lamb2 | Linux (openSUSE 11.2) / x86_64 | OK | OK | |
| liverpool | Windows Server 2003 R2 (32-bit) / x64 | OK | OK | [ OK ] |
| gewurz | Windows Server 2008 R2 Enterprise (64-bit) / x64 | OK | OK | OK |
| pelham | Mac OS X Leopard (10.5.8) / i386 | OK | OK | OK |
| petty | Mac OS X Snow Leopard (10.6.4) / i386 | OK | OK | OK |
* installing *source* package 'BioSeqClass' ...
** R
** data
** inst
** preparing package for lazy loading
Loading required package: rpart
Loading required package: MASS
Loading required package: mlbench
Loading required package: survival
Loading required package: splines
Loading required package: class
Loading required package: nnet
Loading required package: mvtnorm
Loading required package: modeltools
Loading required package: stats4
** help
*** installing help indices
** building package indices ...
** testing if installed package can be loaded
* MD5 sums
packaged installation of 'BioSeqClass' as BioSeqClass_1.9.0.zip
* DONE (BioSeqClass)