| Back to the "Multiple platform build/check report" | A B C D E F G H I J K L M N O [P] Q R S T U V W X Y Z | 
| Package 303/419 | Hostname | OS / Arch | BUILD | CHECK | BUILD BIN | ||||
| pickgene 1.22.0 Brian S. Yandell 
 | lamb2 | Linux (openSUSE 11.2) / x86_64 | OK | OK | |||||
| liverpool | Windows Server 2003 R2 (32-bit) / x64 | OK | OK | OK | |||||
| gewurz | Windows Server 2008 R2 Enterprise (64-bit) / x64 | OK | OK | [ OK ] | 
| Package: pickgene | 
| Version: 1.22.0 | 
| Command: D:\biocbld\bbs-2.7-bioc\R\bin\R.exe CMD INSTALL --build --library=pickgene.buildbin-libdir pickgene_1.22.0.tar.gz | 
| StartedAt: 2011-04-07 14:15:15 -0700 (Thu, 07 Apr 2011) | 
| EndedAt: 2011-04-07 14:15:17 -0700 (Thu, 07 Apr 2011) | 
| EllapsedTime: 1.5 seconds | 
| RetCode: 0 | 
| Status: OK | 
| PackageFile: pickgene_1.22.0.zip | 
| PackageFileSize: 254.1 KiB | 
* installing *source* package 'pickgene' ... ** R ** inst ** preparing package for lazy loading ** help *** installing help indices ** building package indices ... ** testing if installed package can be loaded * MD5 sums packaged installation of 'pickgene' as pickgene_1.22.0.zip * DONE (pickgene)