yaqcaffy 1.10.1 Laurent Gatto
 | Snapshot Date: 2011-03-30 23:22:56 -0700 (Wed, 30 Mar 2011) |  | URL: https://hedgehog.fhcrc.org/bioconductor/branches/RELEASE_2_7/madman/Rpacks/yaqcaffy |  | Last Changed Rev: 51586 / Revision: 54281 |  | Last Changed Date: 2010-12-17 09:02:41 -0800 (Fri, 17 Dec 2010) |  
  | lamb2  | Linux (openSUSE 11.2) / x86_64  |  OK  |  WARNINGS  |  | 
| liverpool  | Windows Server 2003 R2 (32-bit) / x64  | [ OK ] |  WARNINGS  |  OK  | 
| gewurz  | Windows Server 2008 R2 Enterprise (64-bit) / x64  |  OK  |  WARNINGS  |  OK  | 
| pelham  | Mac OS X Leopard (10.5.8) / i386  |  OK  |  WARNINGS  |  OK  | 
Warning: unknown option '--keep-empty-dirs'
* checking for file 'yaqcaffy/DESCRIPTION' ... OK
* preparing 'yaqcaffy':
* checking DESCRIPTION meta-information ... OK
* installing the package to re-build vignettes
* creating vignettes ... OK
* checking for LF line-endings in source and make files
* checking for empty or unneeded directories
* building 'yaqcaffy_1.10.1.tar.gz'