| Back to the "Multiple platform build/check report" | A B C D E F G H I J K L M N O P Q [R] S T U V W X Y Z |
| Package 329/419 | Hostname | OS / Arch | BUILD | CHECK | BUILD BIN | ||||
| RCytoscape 1.0.1 Paul Shannon
| lamb2 | Linux (openSUSE 11.2) / x86_64 | OK | OK | |||||
| liverpool | Windows Server 2003 R2 (32-bit) / x64 | OK | [ OK ] | OK | |||||
| gewurz | Windows Server 2008 R2 Enterprise (64-bit) / x64 | OK | OK | OK | |||||
| pelham | Mac OS X Leopard (10.5.8) / i386 | OK | OK | OK |
| Package: RCytoscape |
| Version: 1.0.1 |
| Command: E:\biocbld\bbs-2.7-bioc\R\bin\R.exe CMD check --no-vignettes --timings RCytoscape_1.0.1.tar.gz |
| StartedAt: 2011-02-22 07:25:17 -0800 (Tue, 22 Feb 2011) |
| EndedAt: 2011-02-22 07:32:25 -0800 (Tue, 22 Feb 2011) |
| EllapsedTime: 428.6 seconds |
| RetCode: 0 |
| Status: OK |
| CheckDir: RCytoscape.Rcheck |
| Warnings: 0 |
* using log directory 'E:/biocbld/bbs-2.7-bioc/meat/RCytoscape.Rcheck' * using R version 2.12.1 (2010-12-16) * using platform: i386-pc-mingw32 (32-bit) * using session charset: ISO8859-1 * using option '--no-vignettes' * checking for file 'RCytoscape/DESCRIPTION' ... OK * checking extension type ... Package * this is package 'RCytoscape' version '1.0.1' * checking package name space information ... OK * checking package dependencies ... OK * checking if this is a source package ... OK * checking whether package 'RCytoscape' can be installed ... OK * checking package directory ... OK * checking for portable file names ... OK * checking DESCRIPTION meta-information ... OK * checking top-level files ... OK * checking index information ... OK * checking package subdirectories ... OK * checking R files for non-ASCII characters ... OK * checking R files for syntax errors ... OK * checking whether the package can be loaded ... OK * checking whether the package can be loaded with stated dependencies ... OK * checking whether the package can be unloaded cleanly ... OK * checking whether the name space can be loaded with stated dependencies ... OK * checking whether the name space can be unloaded cleanly ... OK * checking for unstated dependencies in R code ... OK * checking S3 generic/method consistency ... OK * checking replacement functions ... OK * checking foreign function calls ... OK * checking R code for possible problems ... OK * checking Rd files ... OK * checking Rd metadata ... OK * checking Rd cross-references ... OK * checking for missing documentation entries ... OK * checking for code/documentation mismatches ... OK * checking Rd \usage sections ... OK * checking Rd contents ... OK * checking for unstated dependencies in examples ... OK * checking examples ... OK * checking for unstated dependencies in tests ... OK * checking tests ... Running 'RCytoscape_unit_tests.R' OK * checking package vignettes in 'inst/doc' ... SKIPPED * checking PDF version of manual ... OK
RCytoscape.Rcheck/00install.out:
* installing *source* package 'RCytoscape' ... ** R ** inst ** preparing package for lazy loading ** help *** installing help indices ** building package indices ... ** testing if installed package can be loaded * DONE (RCytoscape)
RCytoscape.Rcheck/RCytoscape-Ex.timings:
| name | user | system | elapsed | |
| CytoscapeWindow | 0.09 | 0.02 | 0.75 | |
| CytoscapeWindowClass-class | 0.07 | 0.01 | 0.12 | |
| clearMsg | 0.28 | 0.02 | 6.39 | |
| clearSelection | 0.22 | 0.03 | 6.43 | |
| cy2.edge.names | 0.01 | 0.00 | 0.01 | |
| destroyAllWindows | 0.24 | 0.00 | 0.61 | |
| destroyWindow | 0.07 | 0.00 | 0.14 | |
| displayGraph | 0.29 | 0.00 | 6.56 | |
| dockPanel | 0.06 | 0.00 | 0.13 | |
| eda | 0.01 | 0.00 | 0.05 | |
| eda.names | 0.05 | 0.00 | 0.07 | |
| firstNeighbors | 0.05 | 0.00 | 0.08 | |
| floatPanel | 0.08 | 0.02 | 0.24 | |
| getAllEdges | 0.03 | 0.00 | 0.07 | |
| getAllNodes | 0.08 | 0.00 | 0.10 | |
| getArrowShapes | 0.04 | 0.01 | 0.09 | |
| getAttributeClassNames | 0.03 | 0.00 | 0.08 | |
| getGraph | 0.03 | 0.00 | 0.06 | |
| getLayoutNames | 0.08 | 0.00 | 0.10 | |
| getLineStyles | 0.07 | 0.00 | 0.11 | |
| getNodeShapes | 0.07 | 0.00 | 0.09 | |
| getSelectedNodeCount | 0.32 | 0.02 | 6.76 | |
| getSelectedNodes | 0.32 | 0.00 | 6.68 | |
| getWindowCount | 0.14 | 0.01 | 0.26 | |
| getWindowList | 0.18 | 0.00 | 0.21 | |
| hidePanel | 0.07 | 0.00 | 0.20 | |
| hideSelectedNodes | 0.16 | 0.00 | 0.45 | |
| initEdgeAttribute | 0 | 0 | 0 | |
| initNodeAttribute | 0 | 0 | 0 | |
| layout | 0.24 | 0.02 | 6.61 | |
| makeRandomGraph | 0.01 | 0.00 | 0.02 | |
| makeSimpleGraph | 0.03 | 0.00 | 0.03 | |
| msg | 0.24 | 0.00 | 6.34 | |
| noa | 0.03 | 0.00 | 0.03 | |
| noa.names | 0.06 | 0.00 | 0.08 | |
| ping | 0.06 | 0.00 | 0.09 | |
| redraw | 0.07 | 0.00 | 0.15 | |
| selectNodes | 0.09 | 0.00 | 0.23 | |
| sendEdgeAttributes | 0.12 | 0.00 | 4.19 | |
| sendEdgeAttributesDirect | 0.07 | 0.00 | 2.11 | |
| sendEdges | 0.07 | 0.00 | 2.11 | |
| sendNodeAttributes | 0.15 | 0.00 | 0.17 | |
| sendNodeAttributesDirect | 0.06 | 0.00 | 0.09 | |
| sendNodes | 0.06 | 0.00 | 0.11 | |
| setDefaultEdgeColor | 0.27 | 0.00 | 6.98 | |
| setDefaultEdgeLineWidth | 0.26 | 0.02 | 6.63 | |
| setDefaultNodeBorderColor | 0.30 | 0.03 | 6.57 | |
| setDefaultNodeBorderWidth | 0.30 | 0.00 | 6.72 | |
| setDefaultNodeColor | 0.23 | 0.00 | 6.64 | |
| setDefaultNodeFontSize | 0.25 | 0.00 | 6.64 | |
| setDefaultNodeLabelColor | 0.23 | 0.00 | 6.61 | |
| setDefaultNodeShape | 0.30 | 0.02 | 6.80 | |
| setDefaultNodeSize | 0.24 | 0.01 | 6.66 | |
| setEdgeColorRule | 0.06 | 0.00 | 2.17 | |
| setEdgeLineStyleRule | 0.06 | 0.00 | 2.11 | |
| setEdgeSourceArrowColorRule | 0.06 | 0.00 | 2.08 | |
| setEdgeSourceArrowRule | 0.07 | 0.00 | 2.11 | |
| setEdgeTargetArrowColorRule | 0.04 | 0.02 | 2.10 | |
| setEdgeTargetArrowRule | 0.08 | 0.00 | 2.13 | |
| setEdgeTooltipRule | 0.27 | 0.00 | 8.61 | |
| setGraph | 0.04 | 0.00 | 0.11 | |
| setNodeBorderColorRule | 0.1 | 0.0 | 4.2 | |
| setNodeColorRule | 0.11 | 0.00 | 4.24 | |
| setNodeLabelRule | 0.45 | 0.00 | 6.84 | |
| setNodeShapeRule | 0.09 | 0.00 | 2.16 | |
| setNodeSizeRule | 0.36 | 0.01 | 10.79 | |
| setNodeTooltipRule | 0.31 | 0.02 | 12.72 | |
| setPosition | 0.32 | 0.00 | 8.61 | |
| sfn | 0.36 | 0.01 | 6.83 | |
| unhideAll | 0.26 | 0.00 | 6.75 | |
| version | 0.08 | 0.00 | 0.09 | |